BEGIN:VCALENDAR
VERSION:2.0
PRODID:-//Eastern Plains Community Pantry - ECPv6.3.5//NONSGML v1.0//EN
CALSCALE:GREGORIAN
METHOD:PUBLISH
X-ORIGINAL-URL:https://www.easternplainscommunitypantry.org
X-WR-CALDESC:Events for Eastern Plains Community Pantry
REFRESH-INTERVAL;VALUE=DURATION:PT1H
X-Robots-Tag:noindex
X-PUBLISHED-TTL:PT1H
BEGIN:VTIMEZONE
TZID:America/Denver
BEGIN:DAYLIGHT
TZOFFSETFROM:-0700
TZOFFSETTO:-0600
TZNAME:MDT
DTSTART:20230312T090000
END:DAYLIGHT
BEGIN:STANDARD
TZOFFSETFROM:-0600
TZOFFSETTO:-0700
TZNAME:MST
DTSTART:20231105T080000
END:STANDARD
END:VTIMEZONE
BEGIN:VEVENT
DTSTART;TZID=America/Denver:20231209T140000
DTEND;TZID=America/Denver:20231209T183000
DTSTAMP:20260420T123628
CREATED:20231203T015308Z
LAST-MODIFIED:20231203T015519Z
UID:3721-1702130400-1702146600@www.easternplainscommunitypantry.org
SUMMARY:Country Holiday Fair -  El Paso County Fair Grounds begins at 2:00 pm
DESCRIPTION:
URL:https://www.easternplainscommunitypantry.org/event/country-holiday-fair-begins-at-200-pm/
LOCATION:CO
CATEGORIES:Community Events
END:VEVENT
BEGIN:VEVENT
DTSTART;TZID=America/Denver:20231209T170000
DTEND;TZID=America/Denver:20231209T180000
DTSTAMP:20260420T123628
CREATED:20231203T012758Z
LAST-MODIFIED:20231203T014539Z
UID:3709-1702141200-1702144800@www.easternplainscommunitypantry.org
SUMMARY:7th Annual Parade of Lights - begins at 5:00 pm.
DESCRIPTION:
URL:https://www.easternplainscommunitypantry.org/event/7th-annual-parade-of-lights-dec-9th-begins-at-500-pm/
LOCATION:CO
CATEGORIES:Community Events
END:VEVENT
BEGIN:VEVENT
DTSTART;TZID=America/Denver:20231215T090000
DTEND;TZID=America/Denver:20231215T130000
DTSTAMP:20260420T123628
CREATED:20231121T231850Z
LAST-MODIFIED:20231121T232313Z
UID:3674-1702630800-1702645200@www.easternplainscommunitypantry.org
SUMMARY:DECEMBER Mobile Pantry
DESCRIPTION:NOVEMBER Mobile Pantry\n\nNovember 17 @ 9:00 AM – 1:00 PM
URL:https://www.easternplainscommunitypantry.org/event/mobile-pantry-6/
LOCATION:CO
CATEGORIES:Mobile Pantry
END:VEVENT
BEGIN:VEVENT
DTSTART;VALUE=DATE:20231225
DTEND;VALUE=DATE:20231226
DTSTAMP:20260420T123628
CREATED:20231203T013101Z
LAST-MODIFIED:20231203T013120Z
UID:3712-1703462400-1703548799@www.easternplainscommunitypantry.org
SUMMARY:Pantry Closed - Dec. 25th
DESCRIPTION:The Pantry will be close so that our volunteers can be with their families during this Christmas.
URL:https://www.easternplainscommunitypantry.org/event/pantry-closed-dec-25th/
LOCATION:CO
CATEGORIES:Holiday Closings
END:VEVENT
END:VCALENDAR