BEGIN:VCALENDAR
VERSION:2.0
PRODID:-//Eastern Plains Community Pantry - ECPv6.3.5//NONSGML v1.0//EN
CALSCALE:GREGORIAN
METHOD:PUBLISH
X-WR-CALNAME:Eastern Plains Community Pantry
X-ORIGINAL-URL:https://www.easternplainscommunitypantry.org
X-WR-CALDESC:Events for Eastern Plains Community Pantry
REFRESH-INTERVAL;VALUE=DURATION:PT1H
X-Robots-Tag:noindex
X-PUBLISHED-TTL:PT1H
BEGIN:VTIMEZONE
TZID:America/Denver
BEGIN:DAYLIGHT
TZOFFSETFROM:-0700
TZOFFSETTO:-0600
TZNAME:MDT
DTSTART:20230312T090000
END:DAYLIGHT
BEGIN:STANDARD
TZOFFSETFROM:-0600
TZOFFSETTO:-0700
TZNAME:MST
DTSTART:20231105T080000
END:STANDARD
END:VTIMEZONE
BEGIN:VEVENT
DTSTART;TZID=America/Denver:20230804T090000
DTEND;TZID=America/Denver:20230804T130000
DTSTAMP:20260420T183007
CREATED:20230802T045525Z
LAST-MODIFIED:20230802T045525Z
UID:3585-1691139600-1691154000@www.easternplainscommunitypantry.org
SUMMARY:Sign-up for Kids Spree ends on August 4th
DESCRIPTION:
URL:https://www.easternplainscommunitypantry.org/event/sign-up-for-kids-spree-ends-on-august-4th/
LOCATION:CO
CATEGORIES:Community Events
END:VEVENT
BEGIN:VEVENT
DTSTART;VALUE=DATE:20230805
DTEND;VALUE=DATE:20230806
DTSTAMP:20260420T183007
CREATED:20230802T044634Z
LAST-MODIFIED:20230802T044749Z
UID:3575-1691193600-1691279999@www.easternplainscommunitypantry.org
SUMMARY:Kids Spree
DESCRIPTION:Location:  St. Paul Lutheran Church
URL:https://www.easternplainscommunitypantry.org/event/kids-spree-2/
LOCATION:CO
CATEGORIES:Community Events
END:VEVENT
BEGIN:VEVENT
DTSTART;TZID=America/Denver:20230818T090000
DTEND;TZID=America/Denver:20230818T130000
DTSTAMP:20260420T183007
CREATED:20230606T034315Z
LAST-MODIFIED:20230606T034315Z
UID:3541-1692349200-1692363600@www.easternplainscommunitypantry.org
SUMMARY:AUGUST Mobile Pantry
DESCRIPTION:Mobile Pantry every 3rd Friday of the Month.
URL:https://www.easternplainscommunitypantry.org/event/august-mobile-pantry-6/
LOCATION:CO
CATEGORIES:Mobile Pantry
END:VEVENT
END:VCALENDAR