BEGIN:VCALENDAR
VERSION:2.0
PRODID:-//Eastern Plains Community Pantry - ECPv6.3.5//NONSGML v1.0//EN
CALSCALE:GREGORIAN
METHOD:PUBLISH
X-WR-CALNAME:Eastern Plains Community Pantry
X-ORIGINAL-URL:https://www.easternplainscommunitypantry.org
X-WR-CALDESC:Events for Eastern Plains Community Pantry
REFRESH-INTERVAL;VALUE=DURATION:PT1H
X-Robots-Tag:noindex
X-PUBLISHED-TTL:PT1H
BEGIN:VTIMEZONE
TZID:America/Denver
BEGIN:DAYLIGHT
TZOFFSETFROM:-0700
TZOFFSETTO:-0600
TZNAME:MDT
DTSTART:20230312T090000
END:DAYLIGHT
BEGIN:STANDARD
TZOFFSETFROM:-0600
TZOFFSETTO:-0700
TZNAME:MST
DTSTART:20231105T080000
END:STANDARD
END:VTIMEZONE
BEGIN:VEVENT
DTSTART;VALUE=DATE:20230514
DTEND;VALUE=DATE:20230515
DTSTAMP:20260421T035932
CREATED:20230424T192006Z
LAST-MODIFIED:20230424T192006Z
UID:3497-1684022400-1684108799@www.easternplainscommunitypantry.org
SUMMARY:Mother's Day - May 14th
DESCRIPTION:
URL:https://www.easternplainscommunitypantry.org/event/mothers-day-may-14th/
LOCATION:CO
END:VEVENT
BEGIN:VEVENT
DTSTART;TZID=America/Denver:20230519T090000
DTEND;TZID=America/Denver:20230519T130000
DTSTAMP:20260421T035932
CREATED:20230304T193319Z
LAST-MODIFIED:20230304T193319Z
UID:3408-1684486800-1684501200@www.easternplainscommunitypantry.org
SUMMARY:May Mobile Pantry
DESCRIPTION:Mobile Pantry is on the 3rd Friday of the month from 9:00 am to 1:00 pm.
URL:https://www.easternplainscommunitypantry.org/event/may-mobile-pantry-3/
LOCATION:CO
CATEGORIES:Mobile Pantry
END:VEVENT
BEGIN:VEVENT
DTSTART;VALUE=DATE:20230520
DTEND;VALUE=DATE:20230521
DTSTAMP:20260421T035932
CREATED:20230424T192235Z
LAST-MODIFIED:20230424T192500Z
UID:3500-1684540800-1684627199@www.easternplainscommunitypantry.org
SUMMARY:Armed Forces Day
DESCRIPTION:
URL:https://www.easternplainscommunitypantry.org/event/armed-forces-day-may-20th/
LOCATION:CO
END:VEVENT
BEGIN:VEVENT
DTSTART;VALUE=DATE:20230529
DTEND;VALUE=DATE:20230530
DTSTAMP:20260421T035932
CREATED:20230424T192318Z
LAST-MODIFIED:20230424T192443Z
UID:3502-1685318400-1685404799@www.easternplainscommunitypantry.org
SUMMARY:Memorial Day
DESCRIPTION:Take time to attend the Memorial Day Services around the community.
URL:https://www.easternplainscommunitypantry.org/event/memorial-day-may-29th/
LOCATION:CO
END:VEVENT
END:VCALENDAR