BEGIN:VCALENDAR
VERSION:2.0
PRODID:-//Eastern Plains Community Pantry - ECPv6.3.5//NONSGML v1.0//EN
CALSCALE:GREGORIAN
METHOD:PUBLISH
X-WR-CALNAME:Eastern Plains Community Pantry
X-ORIGINAL-URL:https://www.easternplainscommunitypantry.org
X-WR-CALDESC:Events for Eastern Plains Community Pantry
REFRESH-INTERVAL;VALUE=DURATION:PT1H
X-Robots-Tag:noindex
X-PUBLISHED-TTL:PT1H
BEGIN:VTIMEZONE
TZID:America/Denver
BEGIN:DAYLIGHT
TZOFFSETFROM:-0700
TZOFFSETTO:-0600
TZNAME:MDT
DTSTART:20230312T090000
END:DAYLIGHT
BEGIN:STANDARD
TZOFFSETFROM:-0600
TZOFFSETTO:-0700
TZNAME:MST
DTSTART:20231105T080000
END:STANDARD
END:VTIMEZONE
BEGIN:VEVENT
DTSTART;VALUE=DATE:20230215
DTEND;VALUE=DATE:20230216
DTSTAMP:20260421T091444
CREATED:20230215T164546Z
LAST-MODIFIED:20230215T170029Z
UID:3355-1676419200-1676505599@www.easternplainscommunitypantry.org
SUMMARY:PANTRY CLOSED TODAY - Wed.\, FEB 15th DUE TO WEATHER CONDITIONS
DESCRIPTION:PANTRY CLOSED TODAY – Wed.\, FEB 15th DUE TO WEATHER CONDITIONS
URL:https://www.easternplainscommunitypantry.org/event/pantry-closed-feb-15th-due-to-weather-conditions/
LOCATION:CO
CATEGORIES:Closings,Weather Closings
END:VEVENT
BEGIN:VEVENT
DTSTART;TZID=America/Denver:20230217T090000
DTEND;TZID=America/Denver:20230217T130000
DTSTAMP:20260421T091444
CREATED:20230103T052815Z
LAST-MODIFIED:20230103T052938Z
UID:3303-1676624400-1676638800@www.easternplainscommunitypantry.org
SUMMARY:February Mobile Pantry
DESCRIPTION:Mobile Pantry is on the 3rd Friday of the month from 9:00 am to 1:00 pm.
URL:https://www.easternplainscommunitypantry.org/event/mobile-pantry-4/
LOCATION:CO
CATEGORIES:Mobile Pantry
END:VEVENT
END:VCALENDAR