BEGIN:VCALENDAR
VERSION:2.0
PRODID:-//Eastern Plains Community Pantry - ECPv6.3.5//NONSGML v1.0//EN
CALSCALE:GREGORIAN
METHOD:PUBLISH
X-ORIGINAL-URL:https://www.easternplainscommunitypantry.org
X-WR-CALDESC:Events for Eastern Plains Community Pantry
REFRESH-INTERVAL;VALUE=DURATION:PT1H
X-Robots-Tag:noindex
X-PUBLISHED-TTL:PT1H
BEGIN:VTIMEZONE
TZID:America/Denver
BEGIN:DAYLIGHT
TZOFFSETFROM:-0700
TZOFFSETTO:-0600
TZNAME:MDT
DTSTART:20220313T090000
END:DAYLIGHT
BEGIN:STANDARD
TZOFFSETFROM:-0600
TZOFFSETTO:-0700
TZNAME:MST
DTSTART:20221106T080000
END:STANDARD
BEGIN:DAYLIGHT
TZOFFSETFROM:-0700
TZOFFSETTO:-0600
TZNAME:MDT
DTSTART:20230312T090000
END:DAYLIGHT
BEGIN:STANDARD
TZOFFSETFROM:-0600
TZOFFSETTO:-0700
TZNAME:MST
DTSTART:20231105T080000
END:STANDARD
END:VTIMEZONE
BEGIN:VEVENT
DTSTART;TZID=America/Denver:20221216T090000
DTEND;TZID=America/Denver:20221216T130000
DTSTAMP:20260421T122831
CREATED:20220927T235012Z
LAST-MODIFIED:20220927T235012Z
UID:3068-1671181200-1671195600@www.easternplainscommunitypantry.org
SUMMARY:December Mobile Pantry
DESCRIPTION:Mobile Pantry is on the 3rd Friday of the month from 9:00 am to 1:00 pm.
URL:https://www.easternplainscommunitypantry.org/event/december-mobile-pantry-5/
LOCATION:CO
END:VEVENT
BEGIN:VEVENT
DTSTART;TZID=America/Denver:20221217T110000
DTEND;TZID=America/Denver:20221217T140000
DTSTAMP:20260421T122831
CREATED:20221118T200217Z
LAST-MODIFIED:20221118T200217Z
UID:3129-1671274800-1671285600@www.easternplainscommunitypantry.org
SUMMARY:Toy Giveaway and Lion’s Community Party at Whittemore Building.
DESCRIPTION:December 17th – Toy Giveaway and Lion’s Community Party at Whittemore Building at the El Paso County Fairgrounds.
URL:https://www.easternplainscommunitypantry.org/event/toy-giveaway-and-lions-community-party-at-whittemore-building/
LOCATION:CO
CATEGORIES:Toy Give-way
END:VEVENT
BEGIN:VEVENT
DTSTART;VALUE=DATE:20221223
DTEND;VALUE=DATE:20221227
DTSTAMP:20260421T122831
CREATED:20221118T193706Z
LAST-MODIFIED:20221118T194525Z
UID:3116-1671753600-1672099199@www.easternplainscommunitypantry.org
SUMMARY:PANTRY CLOSED - December 23rd through December 26th for Christmas
DESCRIPTION:The Pantry will be Closed – December 23rd to 26th so our volunteers can be with family for Christmas.
URL:https://www.easternplainscommunitypantry.org/event/pantry-closed-december-23rd-to-26th-for-christmas/
LOCATION:CO
CATEGORIES:Holiday Closings
END:VEVENT
BEGIN:VEVENT
DTSTART;VALUE=DATE:20221231
DTEND;VALUE=DATE:20230103
DTSTAMP:20260421T122831
CREATED:20221118T194028Z
LAST-MODIFIED:20221118T194459Z
UID:3118-1672444800-1672703999@www.easternplainscommunitypantry.org
SUMMARY:PANTRY CLOSED - December 31st through January 2nd for New Years
DESCRIPTION:The Pantry will be  Closed – December 31st – January 2nd so our volunteers can be with their families for New Years.
URL:https://www.easternplainscommunitypantry.org/event/pantry-closed-december-31st-january-2nd-for-new-years/
LOCATION:CO
CATEGORIES:Holiday Closings
END:VEVENT
END:VCALENDAR