BEGIN:VCALENDAR
VERSION:2.0
PRODID:-//Eastern Plains Community Pantry - ECPv6.3.5//NONSGML v1.0//EN
CALSCALE:GREGORIAN
METHOD:PUBLISH
X-WR-CALNAME:Eastern Plains Community Pantry
X-ORIGINAL-URL:https://www.easternplainscommunitypantry.org
X-WR-CALDESC:Events for Eastern Plains Community Pantry
REFRESH-INTERVAL;VALUE=DURATION:PT1H
X-Robots-Tag:noindex
X-PUBLISHED-TTL:PT1H
BEGIN:VTIMEZONE
TZID:America/Denver
BEGIN:DAYLIGHT
TZOFFSETFROM:-0700
TZOFFSETTO:-0600
TZNAME:MDT
DTSTART:20220313T090000
END:DAYLIGHT
BEGIN:STANDARD
TZOFFSETFROM:-0600
TZOFFSETTO:-0700
TZNAME:MST
DTSTART:20221106T080000
END:STANDARD
END:VTIMEZONE
BEGIN:VEVENT
DTSTART;TZID=America/Denver:20221118T080000
DTEND;TZID=America/Denver:20221118T170000
DTSTAMP:20260421T134948
CREATED:20221118T194952Z
LAST-MODIFIED:20221118T194952Z
UID:3126-1668758400-1668790800@www.easternplainscommunitypantry.org
SUMMARY:PANTRY will be CLOSED - Saturday\, November 19th
DESCRIPTION:Due to the illness of several of our volunteers\, our pantry will be closed on Saturday\, November 19th.  Sorry for any inconvenience this may have caused.
URL:https://www.easternplainscommunitypantry.org/event/pantry-will-be-closed-saturday-november-19th/
LOCATION:CO
CATEGORIES:Closings
END:VEVENT
BEGIN:VEVENT
DTSTART;TZID=America/Denver:20221118T090000
DTEND;TZID=America/Denver:20221118T130000
DTSTAMP:20260421T134948
CREATED:20220927T234910Z
LAST-MODIFIED:20220927T234910Z
UID:3066-1668762000-1668776400@www.easternplainscommunitypantry.org
SUMMARY:November Mobile Pantry
DESCRIPTION:Mobile Pantry is on the 3rd Friday of the month from 9:00 am to 1:00 pm.
URL:https://www.easternplainscommunitypantry.org/event/november-mobile-pantry-5/
LOCATION:CO
END:VEVENT
BEGIN:VEVENT
DTSTART;VALUE=DATE:20221124
DTEND;VALUE=DATE:20221128
DTSTAMP:20260421T134948
CREATED:20221118T193307Z
LAST-MODIFIED:20221118T194549Z
UID:3112-1669248000-1669593599@www.easternplainscommunitypantry.org
SUMMARY:PANTRY CLOSED - November 24th through November 27th for Thanksgiving
DESCRIPTION:The Pantry will be  Closed – November 24th – 27th so our volunteers can be with their families.
URL:https://www.easternplainscommunitypantry.org/event/pantry-closed-november-24th-27th-for-thanksgiving/
LOCATION:CO
CATEGORIES:Holiday Closings
END:VEVENT
END:VCALENDAR