BEGIN:VCALENDAR
VERSION:2.0
PRODID:-//Eastern Plains Community Pantry - ECPv6.3.5//NONSGML v1.0//EN
CALSCALE:GREGORIAN
METHOD:PUBLISH
X-ORIGINAL-URL:https://www.easternplainscommunitypantry.org
X-WR-CALDESC:Events for Eastern Plains Community Pantry
REFRESH-INTERVAL;VALUE=DURATION:PT1H
X-Robots-Tag:noindex
X-PUBLISHED-TTL:PT1H
BEGIN:VTIMEZONE
TZID:America/Denver
BEGIN:DAYLIGHT
TZOFFSETFROM:-0700
TZOFFSETTO:-0600
TZNAME:MDT
DTSTART:20220313T090000
END:DAYLIGHT
BEGIN:STANDARD
TZOFFSETFROM:-0600
TZOFFSETTO:-0700
TZNAME:MST
DTSTART:20221106T080000
END:STANDARD
END:VTIMEZONE
BEGIN:VEVENT
DTSTART;VALUE=DATE:20220715
DTEND;VALUE=DATE:20220716
DTSTAMP:20260421T200941
CREATED:20220531T232451Z
LAST-MODIFIED:20220628T172101Z
UID:2968-1657843200-1657929599@www.easternplainscommunitypantry.org
SUMMARY:Calhan SummerFest at the Park
DESCRIPTION:Check out the Pantry’s food area.  We will be serving up some great food again.  It’s our annual fund-raiser for our pantry.
URL:https://www.easternplainscommunitypantry.org/event/calhan-summerfest-at-the-park/
LOCATION:CO
CATEGORIES:Community Events
END:VEVENT
BEGIN:VEVENT
DTSTART;TZID=America/Denver:20220715T090000
DTEND;TZID=America/Denver:20220715T130000
DTSTAMP:20260421T200941
CREATED:20220504T214702Z
LAST-MODIFIED:20220531T232558Z
UID:2959-1657875600-1657890000@www.easternplainscommunitypantry.org
SUMMARY:July Mobile Pantry
DESCRIPTION:Mobile Pantry is on the 3rd Friday of the month from 9:00 am to 1:00 pm.
URL:https://www.easternplainscommunitypantry.org/event/july-mobile-pantry-4/
LOCATION:CO
CATEGORIES:Mobile Pantry
END:VEVENT
END:VCALENDAR