BEGIN:VCALENDAR
VERSION:2.0
PRODID:-//Eastern Plains Community Pantry - ECPv6.3.5//NONSGML v1.0//EN
CALSCALE:GREGORIAN
METHOD:PUBLISH
X-WR-CALNAME:Eastern Plains Community Pantry
X-ORIGINAL-URL:https://www.easternplainscommunitypantry.org
X-WR-CALDESC:Events for Eastern Plains Community Pantry
REFRESH-INTERVAL;VALUE=DURATION:PT1H
X-Robots-Tag:noindex
X-PUBLISHED-TTL:PT1H
BEGIN:VTIMEZONE
TZID:America/Denver
BEGIN:DAYLIGHT
TZOFFSETFROM:-0700
TZOFFSETTO:-0600
TZNAME:MDT
DTSTART:20220313T090000
END:DAYLIGHT
BEGIN:STANDARD
TZOFFSETFROM:-0600
TZOFFSETTO:-0700
TZNAME:MST
DTSTART:20221106T080000
END:STANDARD
END:VTIMEZONE
BEGIN:VEVENT
DTSTART;TZID=America/Denver:20220401T183000
DTEND;TZID=America/Denver:20220401T193000
DTSTAMP:20260422T035254
CREATED:20220329T054315Z
LAST-MODIFIED:20220329T054922Z
UID:2898-1648837800-1648841400@www.easternplainscommunitypantry.org
SUMMARY:Fish Fry at St. Michael's Catholic Church
DESCRIPTION:
URL:https://www.easternplainscommunitypantry.org/event/fish-fry-at-st-michaels-catholic-church/
CATEGORIES:Community Events
END:VEVENT
BEGIN:VEVENT
DTSTART;TZID=America/Denver:20220402T083000
DTEND;TZID=America/Denver:20220402T140000
DTSTAMP:20260422T035254
CREATED:20220329T054600Z
LAST-MODIFIED:20220329T055448Z
UID:2900-1648888200-1648908000@www.easternplainscommunitypantry.org
SUMMARY:Calhan United Methodist Women's Rummage Sale at Whittemore Hall at El Paso County Fairgrounds
DESCRIPTION:The United Methodist Women Rummage Sale is on Saturday\, April 2nd.
URL:https://www.easternplainscommunitypantry.org/event/calhan-united-methodist-rummage-sale-at-whittemore-hall-at-el-paso-county-fairgrounds/
CATEGORIES:Community Events
END:VEVENT
BEGIN:VEVENT
DTSTART;TZID=America/Denver:20220415T090000
DTEND;TZID=America/Denver:20220415T130000
DTSTAMP:20260422T035254
CREATED:20220114T044233Z
LAST-MODIFIED:20220114T044233Z
UID:2816-1650013200-1650027600@www.easternplainscommunitypantry.org
SUMMARY:April Mobile Pantry
DESCRIPTION:Our Mobile Pantry is from 9:00 am to 1:00 pm.  Mark your calendar.
URL:https://www.easternplainscommunitypantry.org/event/april-mobile-pantry-4/
CATEGORIES:Mobile Pantry
END:VEVENT
BEGIN:VEVENT
DTSTART;VALUE=DATE:20220416
DTEND;VALUE=DATE:20220417
DTSTAMP:20260422T035254
CREATED:20220407T032533Z
LAST-MODIFIED:20220407T032630Z
UID:2916-1650067200-1650153599@www.easternplainscommunitypantry.org
SUMMARY:Pantry - Closed April 16th
DESCRIPTION:The pantry will be closed on Saturday\, April 16th\, so that our volunteers can be with family during Easter.
URL:https://www.easternplainscommunitypantry.org/event/pantry-closed-7/
CATEGORIES:Closings
END:VEVENT
BEGIN:VEVENT
DTSTART;TZID=America/Denver:20220428T130000
DTEND;TZID=America/Denver:20220428T150000
DTSTAMP:20260422T035254
CREATED:20220414T154512Z
LAST-MODIFIED:20220414T154653Z
UID:2923-1651150800-1651158000@www.easternplainscommunitypantry.org
SUMMARY:Volunteer Training - April 28th beginning at 1:00 pm
DESCRIPTION:
URL:https://www.easternplainscommunitypantry.org/event/volunteer-training-april-28th-at-100-pm/
CATEGORIES:TRAINIGS
END:VEVENT
END:VCALENDAR