BEGIN:VCALENDAR
VERSION:2.0
PRODID:-//Eastern Plains Community Pantry - ECPv6.3.5//NONSGML v1.0//EN
CALSCALE:GREGORIAN
METHOD:PUBLISH
X-WR-CALNAME:Eastern Plains Community Pantry
X-ORIGINAL-URL:https://www.easternplainscommunitypantry.org
X-WR-CALDESC:Events for Eastern Plains Community Pantry
REFRESH-INTERVAL;VALUE=DURATION:PT1H
X-Robots-Tag:noindex
X-PUBLISHED-TTL:PT1H
BEGIN:VTIMEZONE
TZID:America/Denver
BEGIN:DAYLIGHT
TZOFFSETFROM:-0700
TZOFFSETTO:-0600
TZNAME:MDT
DTSTART:20220313T090000
END:DAYLIGHT
BEGIN:STANDARD
TZOFFSETFROM:-0600
TZOFFSETTO:-0700
TZNAME:MST
DTSTART:20221106T080000
END:STANDARD
END:VTIMEZONE
BEGIN:VEVENT
DTSTART;VALUE=DATE:20220304
DTEND;VALUE=DATE:20220305
DTSTAMP:20260422T052316
CREATED:20220226T011855Z
LAST-MODIFIED:20220228T234123Z
UID:2843-1646352000-1646438399@www.easternplainscommunitypantry.org
SUMMARY:Pantry Closed - Friday\, March 4th 2022
DESCRIPTION:The Eastern Plains Community Pantry will be closed Friday\, March  4th\, and Saturday\, March 5th in respect and remembrance of Manny Espinoza.
URL:https://www.easternplainscommunitypantry.org/event/pantry-closed-friday-march-4th-2022/
CATEGORIES:Closings
END:VEVENT
BEGIN:VEVENT
DTSTART;VALUE=DATE:20220305
DTEND;VALUE=DATE:20220306
DTSTAMP:20260422T052316
CREATED:20220228T233839Z
LAST-MODIFIED:20220228T234149Z
UID:2864-1646438400-1646524799@www.easternplainscommunitypantry.org
SUMMARY:Pantry Closed - Saturday\, March 5th 2022
DESCRIPTION:The Eastern Plains Community Pantry will be closed Friday\, March  4th\, and Saturday\, March 5th in respect and remembrance of Manny Espinoza.
URL:https://www.easternplainscommunitypantry.org/event/pantry-closed-saturday-march-5th-2022/
CATEGORIES:Closings
END:VEVENT
BEGIN:VEVENT
DTSTART;TZID=America/Denver:20220318T090000
DTEND;TZID=America/Denver:20220318T130000
DTSTAMP:20260422T052316
CREATED:20220114T044145Z
LAST-MODIFIED:20220114T044145Z
UID:2814-1647594000-1647608400@www.easternplainscommunitypantry.org
SUMMARY:March Mobile Pantry
DESCRIPTION:Our Mobile Pantry is from 9:00 am to 1:00 pm.  Mark your calendar.
URL:https://www.easternplainscommunitypantry.org/event/march-mobile-pantry-4/
CATEGORIES:Mobile Pantry
END:VEVENT
END:VCALENDAR