BEGIN:VCALENDAR
VERSION:2.0
PRODID:-//Eastern Plains Community Pantry - ECPv6.3.5//NONSGML v1.0//EN
CALSCALE:GREGORIAN
METHOD:PUBLISH
X-ORIGINAL-URL:https://www.easternplainscommunitypantry.org
X-WR-CALDESC:Events for Eastern Plains Community Pantry
REFRESH-INTERVAL;VALUE=DURATION:PT1H
X-Robots-Tag:noindex
X-PUBLISHED-TTL:PT1H
BEGIN:VTIMEZONE
TZID:America/Denver
BEGIN:DAYLIGHT
TZOFFSETFROM:-0700
TZOFFSETTO:-0600
TZNAME:MDT
DTSTART:20210314T090000
END:DAYLIGHT
BEGIN:STANDARD
TZOFFSETFROM:-0600
TZOFFSETTO:-0700
TZNAME:MST
DTSTART:20211107T080000
END:STANDARD
END:VTIMEZONE
BEGIN:VEVENT
DTSTART;TZID=America/Denver:20210709T143000
DTEND;TZID=America/Denver:20210709T210000
DTSTAMP:20260423T002751
CREATED:20210629T025305Z
LAST-MODIFIED:20210629T025305Z
UID:2669-1625841000-1625864400@www.easternplainscommunitypantry.org
SUMMARY:Calhan Summer Fest
DESCRIPTION:Come and join the Eastern Plains Community Pantry BBQ Dinner.  Pulled pork dinner \nFood and fun begins at 3:00 pm on July 9th.
URL:https://www.easternplainscommunitypantry.org/event/calhan-summer-fest-4/
END:VEVENT
BEGIN:VEVENT
DTSTART;TZID=America/Denver:20210716T090000
DTEND;TZID=America/Denver:20210716T130000
DTSTAMP:20260423T002751
CREATED:20210603T010204Z
LAST-MODIFIED:20210603T010308Z
UID:2659-1626426000-1626440400@www.easternplainscommunitypantry.org
SUMMARY:July Mobile Pantry
DESCRIPTION:The Mobile Pantry will be from 9:00 am to 1:00 pm. Drive-by Pickup by the east door of the pantry.
URL:https://www.easternplainscommunitypantry.org/event/july-mobile-pantry-3/
CATEGORIES:Mobile Pantry
END:VEVENT
END:VCALENDAR