BEGIN:VCALENDAR
VERSION:2.0
PRODID:-//Eastern Plains Community Pantry - ECPv6.3.5//NONSGML v1.0//EN
CALSCALE:GREGORIAN
METHOD:PUBLISH
X-WR-CALNAME:Eastern Plains Community Pantry
X-ORIGINAL-URL:https://www.easternplainscommunitypantry.org
X-WR-CALDESC:Events for Eastern Plains Community Pantry
REFRESH-INTERVAL;VALUE=DURATION:PT1H
X-Robots-Tag:noindex
X-PUBLISHED-TTL:PT1H
BEGIN:VTIMEZONE
TZID:America/Denver
BEGIN:DAYLIGHT
TZOFFSETFROM:-0700
TZOFFSETTO:-0600
TZNAME:MDT
DTSTART:20190310T090000
END:DAYLIGHT
BEGIN:STANDARD
TZOFFSETFROM:-0600
TZOFFSETTO:-0700
TZNAME:MST
DTSTART:20191103T080000
END:STANDARD
END:VTIMEZONE
BEGIN:VEVENT
DTSTART;TZID=America/Denver:20190706T090000
DTEND;TZID=America/Denver:20190706T120000
DTSTAMP:20260424T204736
CREATED:20190701T193715Z
LAST-MODIFIED:20190701T194112Z
UID:2062-1562403600-1562414400@www.easternplainscommunitypantry.org
SUMMARY:Pantry Open 9 to noon
DESCRIPTION:
URL:https://www.easternplainscommunitypantry.org/event/pantry-open-9-to-noon/
END:VEVENT
BEGIN:VEVENT
DTSTART;TZID=America/Denver:20190712T150000
DTEND;TZID=America/Denver:20190712T210000
DTSTAMP:20260424T204736
CREATED:20190701T193212Z
LAST-MODIFIED:20190701T193541Z
UID:2057-1562943600-1562965200@www.easternplainscommunitypantry.org
SUMMARY:Calhan Summer Fest
DESCRIPTION:Come join us and enjoy a great pulled pork meal.  All proceeds support the pantry in its mission to serve our community.
URL:https://www.easternplainscommunitypantry.org/event/calhan-summer-fest-3/
END:VEVENT
BEGIN:VEVENT
DTSTART;TZID=America/Denver:20190713T090000
DTEND;TZID=America/Denver:20190713T120000
DTSTAMP:20260424T204736
CREATED:20190701T193748Z
LAST-MODIFIED:20190701T194034Z
UID:2064-1563008400-1563019200@www.easternplainscommunitypantry.org
SUMMARY:Pantry Open - 9 to noon
DESCRIPTION:
URL:https://www.easternplainscommunitypantry.org/event/pantry-open-9-to-noon-2/
END:VEVENT
BEGIN:VEVENT
DTSTART;TZID=America/Denver:20190719T090000
DTEND;TZID=America/Denver:20190719T140000
DTSTAMP:20260424T204736
CREATED:20190402T215611Z
LAST-MODIFIED:20190402T215733Z
UID:1964-1563526800-1563544800@www.easternplainscommunitypantry.org
SUMMARY:JULY Mobile Pantry
DESCRIPTION:The mobile pantry is every 3rd Friday of the month. \nHours for this mobile pantry is  9:00 am to 2:00 pm. \nFood distribution often includes produce\, bread\, drinks\, pastries\, and snacks.
URL:https://www.easternplainscommunitypantry.org/event/july-mobile-pantry/
CATEGORIES:Mobile Pantry
END:VEVENT
BEGIN:VEVENT
DTSTART;TZID=America/Denver:20190720T090000
DTEND;TZID=America/Denver:20190720T120000
DTSTAMP:20260424T204736
CREATED:20190701T193910Z
LAST-MODIFIED:20190701T193910Z
UID:2066-1563613200-1563624000@www.easternplainscommunitypantry.org
SUMMARY:Pantry Open - 9 to noon
DESCRIPTION:
URL:https://www.easternplainscommunitypantry.org/event/pantry-open-9-to-noon-3/
END:VEVENT
BEGIN:VEVENT
DTSTART;TZID=America/Denver:20190727T090000
DTEND;TZID=America/Denver:20190727T120000
DTSTAMP:20260424T204736
CREATED:20190701T193955Z
LAST-MODIFIED:20190701T193955Z
UID:2068-1564218000-1564228800@www.easternplainscommunitypantry.org
SUMMARY:Pantry Open - 9 to noon
DESCRIPTION:
URL:https://www.easternplainscommunitypantry.org/event/pantry-open-9-to-noon-4/
END:VEVENT
END:VCALENDAR