BEGIN:VCALENDAR
VERSION:2.0
PRODID:-//Eastern Plains Community Pantry - ECPv6.3.5//NONSGML v1.0//EN
CALSCALE:GREGORIAN
METHOD:PUBLISH
X-ORIGINAL-URL:https://www.easternplainscommunitypantry.org
X-WR-CALDESC:Events for Eastern Plains Community Pantry
REFRESH-INTERVAL;VALUE=DURATION:PT1H
X-Robots-Tag:noindex
X-PUBLISHED-TTL:PT1H
BEGIN:VTIMEZONE
TZID:America/Denver
BEGIN:DAYLIGHT
TZOFFSETFROM:-0700
TZOFFSETTO:-0600
TZNAME:MDT
DTSTART:20180311T090000
END:DAYLIGHT
BEGIN:STANDARD
TZOFFSETFROM:-0600
TZOFFSETTO:-0700
TZNAME:MST
DTSTART:20181104T080000
END:STANDARD
END:VTIMEZONE
BEGIN:VEVENT
DTSTART;TZID=America/Denver:20181215T130000
DTEND;TZID=America/Denver:20181215T143000
DTSTAMP:20260425T164803
CREATED:20181208T173851Z
LAST-MODIFIED:20181208T173851Z
UID:1821-1544878800-1544884200@www.easternplainscommunitypantry.org
SUMMARY:Holiday Giving Program at Swink Hall
DESCRIPTION:In collaboration with the Calhan Lions Club\, the Holiday Giving Program will be Saturday\, December 15th from 1:00 to 2:30 pm. \nSanta and Mrs. Claus will be there for the children.  Cookies and Hot Chocolate will also be served.  There will also be face painting for the children.
URL:https://www.easternplainscommunitypantry.org/event/holiday-giving-program-at-swink-hall/
CATEGORIES:Community Events
END:VEVENT
BEGIN:VEVENT
DTSTART;TZID=America/Denver:20181215T180000
DTEND;TZID=America/Denver:20181215T200000
DTSTAMP:20260425T164803
CREATED:20181208T174232Z
LAST-MODIFIED:20181208T174232Z
UID:1823-1544896800-1544904000@www.easternplainscommunitypantry.org
SUMMARY:Calhan Country Christmas
DESCRIPTION: A magical evening of the sights and sounds of Christmas in the country! Enjoy the Calhan Christmas Parade of Lights\, live reindeer\, enjoy the sounds of strolling carolers\, gaze at the stars with the Colorado Springs Astronomical Society\, shop with local artisans and swing to the amazing music of Fire Line. Afterwards\, don’t miss the exciting action in the indoor Owens Livestock Arena for our Branding Iron Bull Riding!
URL:https://www.easternplainscommunitypantry.org/event/calhan-country-christmas/
CATEGORIES:Community Events
END:VEVENT
BEGIN:VEVENT
DTSTART;TZID=America/Denver:20181221T090000
DTEND;TZID=America/Denver:20181221T140000
DTSTAMP:20260425T164803
CREATED:20180912T193505Z
LAST-MODIFIED:20180912T201939Z
UID:1591-1545382800-1545400800@www.easternplainscommunitypantry.org
SUMMARY:December Mobile Pantry
DESCRIPTION:The mobile pantry is every 3rd Friday of the month. \nHours for this mobile pantry is  9:00 am to 2:00 pm. \nFood distribution often includes produce\, bread\, drinks\, pastries\, and snacks.
URL:https://www.easternplainscommunitypantry.org/event/december-mobile-pantry-2/
END:VEVENT
BEGIN:VEVENT
DTSTART;VALUE=DATE:20181224
DTEND;VALUE=DATE:20181225
DTSTAMP:20260425T164803
CREATED:20181109T033125Z
LAST-MODIFIED:20181208T173329Z
UID:1744-1545609600-1545695999@www.easternplainscommunitypantry.org
SUMMARY:Christmas Eve -- Pantry Closed
DESCRIPTION:
URL:https://www.easternplainscommunitypantry.org/event/pantry-closed-merry-christmas/
CATEGORIES:Holiday Closings
END:VEVENT
BEGIN:VEVENT
DTSTART;VALUE=DATE:20181225
DTEND;VALUE=DATE:20181226
DTSTAMP:20260425T164803
CREATED:20181109T033206Z
LAST-MODIFIED:20181208T173312Z
UID:1746-1545696000-1545782399@www.easternplainscommunitypantry.org
SUMMARY:Merry Christmas -- Pantry Closed
DESCRIPTION:
URL:https://www.easternplainscommunitypantry.org/event/pantry-closed-__merry-christmas/
CATEGORIES:Holiday Closings
END:VEVENT
BEGIN:VEVENT
DTSTART;VALUE=DATE:20181231
DTEND;VALUE=DATE:20190101
DTSTAMP:20260425T164803
CREATED:20181208T172836Z
LAST-MODIFIED:20181208T173233Z
UID:1815-1546214400-1546300799@www.easternplainscommunitypantry.org
SUMMARY:Pantry Closed - New Year's Eve
DESCRIPTION:
URL:https://www.easternplainscommunitypantry.org/event/pantry-closed-new-years-eve/
CATEGORIES:Holiday Closings
END:VEVENT
END:VCALENDAR