BEGIN:VCALENDAR
VERSION:2.0
PRODID:-//Eastern Plains Community Pantry - ECPv6.3.5//NONSGML v1.0//EN
CALSCALE:GREGORIAN
METHOD:PUBLISH
X-WR-CALNAME:Eastern Plains Community Pantry
X-ORIGINAL-URL:https://www.easternplainscommunitypantry.org
X-WR-CALDESC:Events for Eastern Plains Community Pantry
REFRESH-INTERVAL;VALUE=DURATION:PT1H
X-Robots-Tag:noindex
X-PUBLISHED-TTL:PT1H
BEGIN:VTIMEZONE
TZID:America/Denver
BEGIN:DAYLIGHT
TZOFFSETFROM:-0700
TZOFFSETTO:-0600
TZNAME:MDT
DTSTART:20150308T090000
END:DAYLIGHT
BEGIN:STANDARD
TZOFFSETFROM:-0600
TZOFFSETTO:-0700
TZNAME:MST
DTSTART:20151101T080000
END:STANDARD
BEGIN:DAYLIGHT
TZOFFSETFROM:-0700
TZOFFSETTO:-0600
TZNAME:MDT
DTSTART:20160313T090000
END:DAYLIGHT
BEGIN:STANDARD
TZOFFSETFROM:-0600
TZOFFSETTO:-0700
TZNAME:MST
DTSTART:20161106T080000
END:STANDARD
END:VTIMEZONE
BEGIN:VEVENT
DTSTART;VALUE=DATE:20160104
DTEND;VALUE=DATE:20160105
DTSTAMP:20260423T043645
CREATED:20151117T184608Z
LAST-MODIFIED:20151117T184608Z
UID:317-1451865600-1451951999@www.easternplainscommunitypantry.org
SUMMARY:The Emergency Food Assistance Program Distribution (TEFAP)
DESCRIPTION:Start date: \n\nThe first Monday of every month.\n\nWhen: \n\nM-TH 9:00 am – 5:00 pm\nFri – 9:00 – 4:00 pm\n\nWhat you need to bring: \n\nPicture ID\n\nHow often can I receive TEFAP? \n\nClients are eligible to receive TEFAP foods one time per month
URL:https://www.easternplainscommunitypantry.org/event/the-emergency-food-assistance-program-distribution-tefap/
CATEGORIES:(TEFAP) The Emergency Food Asisstance Program
END:VEVENT
BEGIN:VEVENT
DTSTART;VALUE=DATE:20151225
DTEND;VALUE=DATE:20151226
DTSTAMP:20260423T043645
CREATED:20151117T231457Z
LAST-MODIFIED:20151117T231648Z
UID:344-1451001600-1451087999@www.easternplainscommunitypantry.org
SUMMARY:Christmas Day - Pantry Closed
DESCRIPTION:The Eastern Plains Community Pantry will be closed today so that our volunteers can be with their family. \nMerry Christmas to everyone.
URL:https://www.easternplainscommunitypantry.org/event/christmas-day/
CATEGORIES:Holiday Closings
END:VEVENT
BEGIN:VEVENT
DTSTART;TZID=America/Denver:20151218T110000
DTEND;TZID=America/Denver:20151218T160000
DTSTAMP:20260423T043645
CREATED:20151117T165215Z
LAST-MODIFIED:20151117T175059Z
UID:314-1450436400-1450454400@www.easternplainscommunitypantry.org
SUMMARY:Mobile Pantry Distribution
DESCRIPTION:Food varies from produce\, bread\, drinks\, pastry and snacks.
URL:https://www.easternplainscommunitypantry.org/event/mobile-pantry/
CATEGORIES:Mobile Pantry
END:VEVENT
BEGIN:VEVENT
DTSTART;TZID=America/Denver:20151207T190000
DTEND;TZID=America/Denver:20151207T200000
DTSTAMP:20260423T043645
CREATED:20151202T045012Z
LAST-MODIFIED:20151202T045203Z
UID:355-1449514800-1449518400@www.easternplainscommunitypantry.org
SUMMARY:EPCP Board Meeting
DESCRIPTION:Meeting at 7:00 pm \nDec 2015 Agenda
URL:https://www.easternplainscommunitypantry.org/event/epcp-board-meeting/
CATEGORIES:Board Meetings
END:VEVENT
BEGIN:VEVENT
DTSTART;VALUE=DATE:20151207
DTEND;VALUE=DATE:20151208
DTSTAMP:20260423T043645
CREATED:20161004T014303Z
LAST-MODIFIED:20161004T030100Z
UID:316-1449446400-1449532799@www.easternplainscommunitypantry.org
SUMMARY:The Emergency Food Assistance Distribution (TEFAP)
DESCRIPTION:Start date: \n\nThe first Monday of every month.\n\nPantry Hours: \n\nM-W 9:00 am – 5:00 pm\nTh- Fri – 9:00 – 2:00 pm\n\nWhat you need to bring: \n\nPicture ID\n\nHow often can I receive TEFAP? \n\nClients are eligible to receive TEFAP foods one time per month
URL:https://www.easternplainscommunitypantry.org/event/the-emergency-food-assistance-distribution-tefap/
CATEGORIES:(TEFAP) The Emergency Food Asisstance Program
END:VEVENT
BEGIN:VEVENT
DTSTART;VALUE=DATE:20151126
DTEND;VALUE=DATE:20151127
DTSTAMP:20260423T043645
CREATED:20151117T221343Z
LAST-MODIFIED:20151117T231734Z
UID:332-1448496000-1448582399@www.easternplainscommunitypantry.org
SUMMARY:Thanksgiving Day - Pantry Closed
DESCRIPTION:Happy Thanksgiving to everyone.\nThe Community Pantry will be closed this day.
URL:https://www.easternplainscommunitypantry.org/event/thanksgiving-day/
CATEGORIES:Holiday Closings
END:VEVENT
BEGIN:VEVENT
DTSTART;TZID=America/Denver:20151120T110000
DTEND;TZID=America/Denver:20151120T160000
DTSTAMP:20260423T043645
CREATED:20151117T164434Z
LAST-MODIFIED:20151117T165257Z
UID:312-1448017200-1448035200@www.easternplainscommunitypantry.org
SUMMARY:Mobile Pantry Distribution
DESCRIPTION:Food varies from produce\, bread\, drinks\, pastry and snacks. \n 
URL:https://www.easternplainscommunitypantry.org/event/mobile-pantry-distribution/
CATEGORIES:Mobile Pantry
END:VEVENT
END:VCALENDAR