BEGIN:VCALENDAR
VERSION:2.0
PRODID:-//Eastern Plains Community Pantry - ECPv6.3.5//NONSGML v1.0//EN
CALSCALE:GREGORIAN
METHOD:PUBLISH
X-ORIGINAL-URL:https://www.easternplainscommunitypantry.org
X-WR-CALDESC:Events for Eastern Plains Community Pantry
REFRESH-INTERVAL;VALUE=DURATION:PT1H
X-Robots-Tag:noindex
X-PUBLISHED-TTL:PT1H
BEGIN:VTIMEZONE
TZID:America/Denver
BEGIN:DAYLIGHT
TZOFFSETFROM:-0700
TZOFFSETTO:-0600
TZNAME:MDT
DTSTART:20230312T090000
END:DAYLIGHT
BEGIN:STANDARD
TZOFFSETFROM:-0600
TZOFFSETTO:-0700
TZNAME:MST
DTSTART:20231105T080000
END:STANDARD
BEGIN:DAYLIGHT
TZOFFSETFROM:-0700
TZOFFSETTO:-0600
TZNAME:MDT
DTSTART:20240310T090000
END:DAYLIGHT
BEGIN:STANDARD
TZOFFSETFROM:-0600
TZOFFSETTO:-0700
TZNAME:MST
DTSTART:20241103T080000
END:STANDARD
BEGIN:DAYLIGHT
TZOFFSETFROM:-0700
TZOFFSETTO:-0600
TZNAME:MDT
DTSTART:20250309T090000
END:DAYLIGHT
BEGIN:STANDARD
TZOFFSETFROM:-0600
TZOFFSETTO:-0700
TZNAME:MST
DTSTART:20251102T080000
END:STANDARD
BEGIN:DAYLIGHT
TZOFFSETFROM:-0700
TZOFFSETTO:-0600
TZNAME:MDT
DTSTART:20260308T090000
END:DAYLIGHT
BEGIN:STANDARD
TZOFFSETFROM:-0600
TZOFFSETTO:-0700
TZNAME:MST
DTSTART:20261101T080000
END:STANDARD
END:VTIMEZONE
BEGIN:VEVENT
DTSTART;TZID=America/Denver:20231117T090000
DTEND;TZID=America/Denver:20231117T130000
DTSTAMP:20260420T215401
CREATED:20230802T045334Z
LAST-MODIFIED:20231003T202914Z
UID:3583-1700211600-1700226000@www.easternplainscommunitypantry.org
SUMMARY:NOVEMBER Mobile Pantry
DESCRIPTION:
URL:https://www.easternplainscommunitypantry.org/event/november-mobile-pantry-6/
LOCATION:CO
CATEGORIES:Mobile Pantry
END:VEVENT
BEGIN:VEVENT
DTSTART;VALUE=DATE:20231123
DTEND;VALUE=DATE:20231126
DTSTAMP:20260420T215401
CREATED:20231121T231614Z
LAST-MODIFIED:20231121T232221Z
UID:3670-1700697600-1700956799@www.easternplainscommunitypantry.org
SUMMARY:Pantry will be closed -November 23rd - 25th
DESCRIPTION:The Eastern Plains Community Pantry will be closed on Thursday-November 23rd\, Friday-the 24th\, and Saturday-the 25th so that our volunteers can celebrate and be with their families during this Thanksgiving. The Pantry will be again open on November 27th from 10:00 to 5:00 pm. \nHappy Thanksgiving Everyone!
URL:https://www.easternplainscommunitypantry.org/event/pantry-will-be-closed-november-23rd-25th/
LOCATION:CO
CATEGORIES:Holiday Closings
END:VEVENT
BEGIN:VEVENT
DTSTART;TZID=America/Denver:20231209T140000
DTEND;TZID=America/Denver:20231209T183000
DTSTAMP:20260420T215401
CREATED:20231203T015308Z
LAST-MODIFIED:20231203T015519Z
UID:3721-1702130400-1702146600@www.easternplainscommunitypantry.org
SUMMARY:Country Holiday Fair -  El Paso County Fair Grounds begins at 2:00 pm
DESCRIPTION:
URL:https://www.easternplainscommunitypantry.org/event/country-holiday-fair-begins-at-200-pm/
LOCATION:CO
CATEGORIES:Community Events
END:VEVENT
BEGIN:VEVENT
DTSTART;TZID=America/Denver:20231209T170000
DTEND;TZID=America/Denver:20231209T180000
DTSTAMP:20260420T215401
CREATED:20231203T012758Z
LAST-MODIFIED:20231203T014539Z
UID:3709-1702141200-1702144800@www.easternplainscommunitypantry.org
SUMMARY:7th Annual Parade of Lights - begins at 5:00 pm.
DESCRIPTION:
URL:https://www.easternplainscommunitypantry.org/event/7th-annual-parade-of-lights-dec-9th-begins-at-500-pm/
LOCATION:CO
CATEGORIES:Community Events
END:VEVENT
BEGIN:VEVENT
DTSTART;TZID=America/Denver:20231215T090000
DTEND;TZID=America/Denver:20231215T130000
DTSTAMP:20260420T215401
CREATED:20231121T231850Z
LAST-MODIFIED:20231121T232313Z
UID:3674-1702630800-1702645200@www.easternplainscommunitypantry.org
SUMMARY:DECEMBER Mobile Pantry
DESCRIPTION:NOVEMBER Mobile Pantry\n\nNovember 17 @ 9:00 AM – 1:00 PM
URL:https://www.easternplainscommunitypantry.org/event/mobile-pantry-6/
LOCATION:CO
CATEGORIES:Mobile Pantry
END:VEVENT
BEGIN:VEVENT
DTSTART;VALUE=DATE:20231225
DTEND;VALUE=DATE:20231226
DTSTAMP:20260420T215401
CREATED:20231203T013101Z
LAST-MODIFIED:20231203T013120Z
UID:3712-1703462400-1703548799@www.easternplainscommunitypantry.org
SUMMARY:Pantry Closed - Dec. 25th
DESCRIPTION:The Pantry will be close so that our volunteers can be with their families during this Christmas.
URL:https://www.easternplainscommunitypantry.org/event/pantry-closed-dec-25th/
LOCATION:CO
CATEGORIES:Holiday Closings
END:VEVENT
BEGIN:VEVENT
DTSTART;VALUE=DATE:20240101
DTEND;VALUE=DATE:20240102
DTSTAMP:20260420T215401
CREATED:20240101T054710Z
LAST-MODIFIED:20240101T054757Z
UID:3743-1704067200-1704153599@www.easternplainscommunitypantry.org
SUMMARY:Pantry Closed - January 1st - Happy New Year
DESCRIPTION:
URL:https://www.easternplainscommunitypantry.org/event/pantry-closed-january-1st/
LOCATION:CO
END:VEVENT
BEGIN:VEVENT
DTSTART;VALUE=DATE:20240214
DTEND;VALUE=DATE:20240215
DTSTAMP:20260420T215401
CREATED:20240131T025359Z
LAST-MODIFIED:20240131T025359Z
UID:3769-1707868800-1707955199@www.easternplainscommunitypantry.org
SUMMARY:Happy Valentine's Day
DESCRIPTION:
URL:https://www.easternplainscommunitypantry.org/event/happy-valentines-day/
LOCATION:CO
END:VEVENT
BEGIN:VEVENT
DTSTART;TZID=America/Denver:20240216T090000
DTEND;TZID=America/Denver:20240216T130000
DTSTAMP:20260420T215401
CREATED:20240131T025506Z
LAST-MODIFIED:20240131T025943Z
UID:3771-1708074000-1708088400@www.easternplainscommunitypantry.org
SUMMARY:February Mobile Pantry
DESCRIPTION:9:00 AM – 1:00 PM\n\nDrive to the East side of the building to pick up.
URL:https://www.easternplainscommunitypantry.org/event/february-mobile-food-day/
LOCATION:CO
CATEGORIES:Mobile Pantry
END:VEVENT
BEGIN:VEVENT
DTSTART;TZID=America/Denver:20240315T090000
DTEND;TZID=America/Denver:20240315T130000
DTSTAMP:20260420T215401
CREATED:20240131T025823Z
LAST-MODIFIED:20240131T030241Z
UID:3775-1710493200-1710507600@www.easternplainscommunitypantry.org
SUMMARY:March Mobile Pantry
DESCRIPTION:9:00 AM – 1:00 PM\n\nDrive to the East side of the building to pick up.
URL:https://www.easternplainscommunitypantry.org/event/march-mobile-pantry-6/
LOCATION:CO
CATEGORIES:Mobile Pantry
END:VEVENT
BEGIN:VEVENT
DTSTART;TZID=America/Denver:20240319T090000
DTEND;TZID=America/Denver:20240319T133000
DTSTAMP:20260420T215401
CREATED:20240318T180138Z
LAST-MODIFIED:20240318T180138Z
UID:3832-1710838800-1710855000@www.easternplainscommunitypantry.org
SUMMARY:MOBILE PANTRY - THIS TUES. MARCH 19th. 9:00am to 1:00pm
DESCRIPTION:Due to the inclement weather and no delivery  on March 15th\, please note that \nMobile Pantry will be on this TUESDAY\, MARCH 19th from 9:00 am to 1:00 pm.
URL:https://www.easternplainscommunitypantry.org/event/mobile-pantry-this-tues-march-19th-900am-to-100pm/
LOCATION:CO
END:VEVENT
BEGIN:VEVENT
DTSTART;TZID=America/Denver:20240419T090000
DTEND;TZID=America/Denver:20240419T130000
DTSTAMP:20260420T215401
CREATED:20240131T030406Z
LAST-MODIFIED:20240131T030406Z
UID:3777-1713517200-1713531600@www.easternplainscommunitypantry.org
SUMMARY:April Mobile Pantry
DESCRIPTION:9:00 AM – 1:00 PM\n\nDrive to the East side of the building to pick up.
URL:https://www.easternplainscommunitypantry.org/event/april-mobile-pantry-6/
LOCATION:CO
CATEGORIES:Mobile Pantry
END:VEVENT
BEGIN:VEVENT
DTSTART;TZID=America/Denver:20240517T090000
DTEND;TZID=America/Denver:20240517T130000
DTSTAMP:20260420T215401
CREATED:20240304T030704Z
LAST-MODIFIED:20240304T030756Z
UID:3826-1715936400-1715950800@www.easternplainscommunitypantry.org
SUMMARY:May Mobile Pantry
DESCRIPTION:9:00 AM – 1:00 PM\n\nDrive to the East side of the building to pick up.
URL:https://www.easternplainscommunitypantry.org/event/may-mobile-pantry-4/
LOCATION:CO
CATEGORIES:Mobile Pantry
END:VEVENT
BEGIN:VEVENT
DTSTART;TZID=America/Denver:20240909T180000
DTEND;TZID=America/Denver:20240909T200000
DTSTAMP:20260420T215401
CREATED:20240909T190531Z
LAST-MODIFIED:20240909T190531Z
UID:3883-1725904800-1725912000@www.easternplainscommunitypantry.org
SUMMARY:September Pantry Board Meeting
DESCRIPTION:
URL:https://www.easternplainscommunitypantry.org/event/september-pantry-board-meeting/
LOCATION:Calhan United Methodist Church
CATEGORIES:Board Meetings
END:VEVENT
BEGIN:VEVENT
DTSTART;TZID=America/Denver:20250418T100000
DTEND;TZID=America/Denver:20250418T140000
DTSTAMP:20260420T215401
CREATED:20250407T212421Z
LAST-MODIFIED:20250407T212421Z
UID:3912-1744970400-1744984800@www.easternplainscommunitypantry.org
SUMMARY:Mobile Pantry
DESCRIPTION:
URL:https://www.easternplainscommunitypantry.org/event/mobile-pantry-5/
LOCATION:CO
END:VEVENT
BEGIN:VEVENT
DTSTART;TZID=America/Denver:20250419T130000
DTEND;TZID=America/Denver:20250419T130000
DTSTAMP:20260420T215401
CREATED:20250407T201752Z
LAST-MODIFIED:20250407T203451Z
UID:3900-1745067600-1745067600@www.easternplainscommunitypantry.org
SUMMARY:Community Easter Egg Hunt
DESCRIPTION:The Calhan Lions club invites the children of the community to hunt for Easter Eggs at the Calhan ball park.
URL:https://www.easternplainscommunitypantry.org/event/community-easter-egg-hunt/
LOCATION:CO
END:VEVENT
BEGIN:VEVENT
DTSTART;TZID=America/Denver:20250620T100000
DTEND;TZID=America/Denver:20250620T140000
DTSTAMP:20260420T215401
CREATED:20250611T102836Z
LAST-MODIFIED:20250611T102836Z
UID:3935-1750413600-1750428000@www.easternplainscommunitypantry.org
SUMMARY:Mobile Pantry
DESCRIPTION:
URL:https://www.easternplainscommunitypantry.org/event/mobile-pantry-7/
LOCATION:Eastern Plains Community Pantry\, 701 4th St.\, Calhan\, CO\, 80808\, United States
CATEGORIES:Mobile Pantry
END:VEVENT
BEGIN:VEVENT
DTSTART;TZID=America/Denver:20250718T090000
DTEND;TZID=America/Denver:20250718T140000
DTSTAMP:20260420T215401
CREATED:20250621T013454Z
LAST-MODIFIED:20250621T013454Z
UID:3937-1752829200-1752847200@www.easternplainscommunitypantry.org
SUMMARY:Mobile Pantry
DESCRIPTION:
URL:https://www.easternplainscommunitypantry.org/event/mobile-pantry-8/
LOCATION:CO
END:VEVENT
BEGIN:VEVENT
DTSTART;TZID=America/Denver:20250815T090000
DTEND;TZID=America/Denver:20250815T140000
DTSTAMP:20260420T215401
CREATED:20250621T014059Z
LAST-MODIFIED:20250621T014059Z
UID:3939-1755248400-1755266400@www.easternplainscommunitypantry.org
SUMMARY:Mobile Pantry
DESCRIPTION:
URL:https://www.easternplainscommunitypantry.org/event/mobile-pantry-9/
LOCATION:CO
END:VEVENT
BEGIN:VEVENT
DTSTART;TZID=America/Denver:20260220T100000
DTEND;TZID=America/Denver:20260220T130000
DTSTAMP:20260420T215401
CREATED:20260203T032729Z
LAST-MODIFIED:20260203T032914Z
UID:3957-1771581600-1771592400@www.easternplainscommunitypantry.org
SUMMARY:Mobile Pantry
DESCRIPTION:
URL:https://www.easternplainscommunitypantry.org/event/mobile-pantry-10/
LOCATION:CO
CATEGORIES:Mobile Pantry
END:VEVENT
BEGIN:VEVENT
DTSTART;TZID=America/Denver:20260302T100000
DTEND;TZID=America/Denver:20260302T170000
DTSTAMP:20260420T215401
CREATED:20260203T032301Z
LAST-MODIFIED:20260203T032301Z
UID:3955-1772445600-1772470800@www.easternplainscommunitypantry.org
SUMMARY:Commodities Distribution
DESCRIPTION:
URL:https://www.easternplainscommunitypantry.org/event/commodities-distribution/
LOCATION:Eastern Plains Community Pantry\, 701 4th St.\, Calhan\, CO\, 80808\, United States
CATEGORIES:Commodities
END:VEVENT
BEGIN:VEVENT
DTSTART;TZID=America/Denver:20260309T180000
DTEND;TZID=America/Denver:20260309T190000
DTSTAMP:20260420T215401
CREATED:20260203T033115Z
LAST-MODIFIED:20260203T033115Z
UID:3959-1773079200-1773082800@www.easternplainscommunitypantry.org
SUMMARY:Pantry Board Meeting
DESCRIPTION:
URL:https://www.easternplainscommunitypantry.org/event/pantry-board-meeting-2/
LOCATION:Calhan United Methodist Church
CATEGORIES:Board Meetings
END:VEVENT
BEGIN:VEVENT
DTSTART;TZID=America/Denver:20260319T100000
DTEND;TZID=America/Denver:20260319T130000
DTSTAMP:20260420T215401
CREATED:20260203T033546Z
LAST-MODIFIED:20260203T033546Z
UID:3961-1773914400-1773925200@www.easternplainscommunitypantry.org
SUMMARY:Mobile Pantry
DESCRIPTION:
URL:https://www.easternplainscommunitypantry.org/event/mobile-pantry-11/
LOCATION:CO
CATEGORIES:Mobile Pantry
END:VEVENT
BEGIN:VEVENT
DTSTART;TZID=America/Denver:20260417T100000
DTEND;TZID=America/Denver:20260417T130000
DTSTAMP:20260420T215401
CREATED:20260416T175127Z
LAST-MODIFIED:20260416T175127Z
UID:3974-1776420000-1776430800@www.easternplainscommunitypantry.org
SUMMARY:Mobile Pantry
DESCRIPTION:
URL:https://www.easternplainscommunitypantry.org/event/mobile-pantry-12/
LOCATION:Eastern Plains Community Pantry\, 701 4th St.\, Calhan\, CO\, 80808\, United States
CATEGORIES:Mobile Pantry
END:VEVENT
END:VCALENDAR