BEGIN:VCALENDAR
VERSION:2.0
PRODID:-//Eastern Plains Community Pantry - ECPv6.3.5//NONSGML v1.0//EN
CALSCALE:GREGORIAN
METHOD:PUBLISH
X-WR-CALNAME:Eastern Plains Community Pantry
X-ORIGINAL-URL:https://www.easternplainscommunitypantry.org
X-WR-CALDESC:Events for Eastern Plains Community Pantry
REFRESH-INTERVAL;VALUE=DURATION:PT1H
X-Robots-Tag:noindex
X-PUBLISHED-TTL:PT1H
BEGIN:VTIMEZONE
TZID:America/Denver
BEGIN:DAYLIGHT
TZOFFSETFROM:-0700
TZOFFSETTO:-0600
TZNAME:MDT
DTSTART:20180311T090000
END:DAYLIGHT
BEGIN:STANDARD
TZOFFSETFROM:-0600
TZOFFSETTO:-0700
TZNAME:MST
DTSTART:20181104T080000
END:STANDARD
BEGIN:DAYLIGHT
TZOFFSETFROM:-0700
TZOFFSETTO:-0600
TZNAME:MDT
DTSTART:20190310T090000
END:DAYLIGHT
BEGIN:STANDARD
TZOFFSETFROM:-0600
TZOFFSETTO:-0700
TZNAME:MST
DTSTART:20191103T080000
END:STANDARD
BEGIN:DAYLIGHT
TZOFFSETFROM:-0700
TZOFFSETTO:-0600
TZNAME:MDT
DTSTART:20200308T090000
END:DAYLIGHT
BEGIN:STANDARD
TZOFFSETFROM:-0600
TZOFFSETTO:-0700
TZNAME:MST
DTSTART:20201101T080000
END:STANDARD
BEGIN:DAYLIGHT
TZOFFSETFROM:-0700
TZOFFSETTO:-0600
TZNAME:MDT
DTSTART:20210314T090000
END:DAYLIGHT
BEGIN:STANDARD
TZOFFSETFROM:-0600
TZOFFSETTO:-0700
TZNAME:MST
DTSTART:20211107T080000
END:STANDARD
END:VTIMEZONE
BEGIN:VEVENT
DTSTART;TZID=America/Denver:20210319T090000
DTEND;TZID=America/Denver:20210319T130000
DTSTAMP:20260419T060153
CREATED:20210204T212500Z
LAST-MODIFIED:20210204T212500Z
UID:2551-1616144400-1616158800@www.easternplainscommunitypantry.org
SUMMARY:March Mobile Pantry
DESCRIPTION:The Mobile Pantry will be from 9:00 am to 1:00 pm. Drive-by Pickup by the east door of the pantry.
URL:https://www.easternplainscommunitypantry.org/event/march-mobile-pantry-3/
CATEGORIES:Mobile Pantry
END:VEVENT
BEGIN:VEVENT
DTSTART;TZID=America/Denver:20210219T090000
DTEND;TZID=America/Denver:20210219T130000
DTSTAMP:20260419T060153
CREATED:20210204T212358Z
LAST-MODIFIED:20210204T212603Z
UID:2549-1613725200-1613739600@www.easternplainscommunitypantry.org
SUMMARY:February Mobile Pantry
DESCRIPTION:The Mobile Pantry will be from 9:00 am to 1:00 pm. Drive-by Pickup by the east door of the pantry.
URL:https://www.easternplainscommunitypantry.org/event/february-mobile-food-pantry/
CATEGORIES:Mobile Pantry
END:VEVENT
BEGIN:VEVENT
DTSTART;TZID=America/Denver:20210115T090000
DTEND;TZID=America/Denver:20210115T130000
DTSTAMP:20260419T060153
CREATED:20201230T213244Z
LAST-MODIFIED:20210204T212228Z
UID:2523-1610701200-1610715600@www.easternplainscommunitypantry.org
SUMMARY:January - Mobile Pantry
DESCRIPTION:The January Mobile Pantry will be from 9:00 am to 1:00 pm. Drive by Pickup by the east door of the pantry.
URL:https://www.easternplainscommunitypantry.org/event/january-mobile-pantry-3/
CATEGORIES:Mobile Pantry
END:VEVENT
BEGIN:VEVENT
DTSTART;TZID=America/Denver:20201218T090000
DTEND;TZID=America/Denver:20201218T140000
DTSTAMP:20260419T060153
CREATED:20201017T193712Z
LAST-MODIFIED:20201017T193712Z
UID:2459-1608282000-1608300000@www.easternplainscommunitypantry.org
SUMMARY:December Mobile Pantry
DESCRIPTION:The December Mobile Pantry will be from 9:00 am to 2:00 pm on December 18th.
URL:https://www.easternplainscommunitypantry.org/event/december-mobile-pantry-4/
CATEGORIES:Mobile Pantry
END:VEVENT
BEGIN:VEVENT
DTSTART;TZID=America/Denver:20201120T090000
DTEND;TZID=America/Denver:20201120T140000
DTSTAMP:20260419T060153
CREATED:20200915T192626Z
LAST-MODIFIED:20201017T193403Z
UID:2416-1605862800-1605880800@www.easternplainscommunitypantry.org
SUMMARY:November Mobile Food Pantry
DESCRIPTION:The mobile pantry is every 3rd Friday of the month. \nHours for this mobile pantry is  9:00 am to 1:00 pm. \nFood distribution often includes produce\, bread\, drinks\, pastries\, and snacks. \nMOBILE FOOD INFORMATION…. \nDURING this unusual time\, please drive to the east door and the food distribution will be handed out to you.
URL:https://www.easternplainscommunitypantry.org/event/november-mobile-food-pantry/
CATEGORIES:Mobile Pantry
END:VEVENT
BEGIN:VEVENT
DTSTART;TZID=America/Denver:20201016T090000
DTEND;TZID=America/Denver:20201120T140000
DTSTAMP:20260419T060153
CREATED:20200915T192538Z
LAST-MODIFIED:20200915T192538Z
UID:2414-1602838800-1605880800@www.easternplainscommunitypantry.org
SUMMARY:October Mobile Food Pantry
DESCRIPTION:The mobile pantry is every 3rd Friday of the month. \nHours for this mobile pantry is  9:00 am to 2:00 pm. \nFood distribution often includes produce\, bread\, drinks\, pastries\, and snacks. \nMOBILE FOOD INFORMATION…. \nDURING this unusual time\, please drive to the east door and the food distribution will be handed out to you.
URL:https://www.easternplainscommunitypantry.org/event/october-mobile-food-pantry/
CATEGORIES:Mobile Pantry
END:VEVENT
BEGIN:VEVENT
DTSTART;TZID=America/Denver:20200918T090000
DTEND;TZID=America/Denver:20200918T130000
DTSTAMP:20260419T060153
CREATED:20200727T234234Z
LAST-MODIFIED:20200727T234328Z
UID:2373-1600419600-1600434000@www.easternplainscommunitypantry.org
SUMMARY:SEPTEMBER Mobile Food Pantry
DESCRIPTION:The mobile pantry is every 3rd Friday of the month. \nHours for this mobile pantry is  9:00 am to 2:00 pm. \nFood distribution often includes produce\, bread\, drinks\, pastries\, and snacks. \nMOBILE FOOD INFORMATION…. \nDURING this unusual time\, please drive to the east door and the food distribution will be handed out to you.
URL:https://www.easternplainscommunitypantry.org/event/september-mobile-food-pantry/
CATEGORIES:Mobile Pantry
END:VEVENT
BEGIN:VEVENT
DTSTART;TZID=America/Denver:20200821T090000
DTEND;TZID=America/Denver:20200821T140000
DTSTAMP:20260419T060153
CREATED:20200526T152647Z
LAST-MODIFIED:20200526T152833Z
UID:2306-1598000400-1598018400@www.easternplainscommunitypantry.org
SUMMARY:AUGUST Mobile Pantry
DESCRIPTION:The mobile pantry is every 3rd Friday of the month. \nHours for this mobile pantry is  9:00 am to 2:00 pm. \nFood distribution often includes produce\, bread\, drinks\, pastries\, and snacks. \nMOBILE FOOD INFORMATION…. \nDURING this unusual time\, please drive to the east door and the food distribution will be handed out to you.
URL:https://www.easternplainscommunitypantry.org/event/august-mobile-pantry-3/
CATEGORIES:Mobile Pantry
END:VEVENT
BEGIN:VEVENT
DTSTART;TZID=America/Denver:20200717T090000
DTEND;TZID=America/Denver:20200717T140000
DTSTAMP:20260419T060153
CREATED:20200526T152600Z
LAST-MODIFIED:20200526T152817Z
UID:2304-1594976400-1594994400@www.easternplainscommunitypantry.org
SUMMARY:JULY Mobile Pantry
DESCRIPTION:The mobile pantry is every 3rd Friday of the month. \nHours for this mobile pantry is  9:00 am to 2:00 pm. \nFood distribution often includes produce\, bread\, drinks\, pastries\, and snacks. \nMOBILE FOOD INFORMATION…. \nDURING this unusual time\, please drive to the east door and the food distribution will be handed out to you.
URL:https://www.easternplainscommunitypantry.org/event/july-mobile-pantry-2/
CATEGORIES:Mobile Pantry
END:VEVENT
BEGIN:VEVENT
DTSTART;TZID=America/Denver:20200619T090000
DTEND;TZID=America/Denver:20200619T130000
DTSTAMP:20260419T060153
CREATED:20200424T173703Z
LAST-MODIFIED:20200424T173811Z
UID:2268-1592557200-1592571600@www.easternplainscommunitypantry.org
SUMMARY:JUNE Mobile Food Pantry
DESCRIPTION:The mobile pantry is every 3rd Friday of the month. \nHours for this mobile pantry is  9:00 am to 2:00 pm. \nFood distribution often includes produce\, bread\, drinks\, pastries\, and snacks. \nMOBILE FOOD INFORMATION…. \nDURING this unusual time\, please drive to the east door and the food distribution will be handed out to you.
URL:https://www.easternplainscommunitypantry.org/event/june-mobile-pantry-2/
CATEGORIES:Mobile Pantry
END:VEVENT
BEGIN:VEVENT
DTSTART;TZID=America/Denver:20200515T090000
DTEND;TZID=America/Denver:20200515T140000
DTSTAMP:20260419T060153
CREATED:20200302T013119Z
LAST-MODIFIED:20200526T152853Z
UID:2230-1589533200-1589551200@www.easternplainscommunitypantry.org
SUMMARY:MAY Mobile Food Pantry
DESCRIPTION:The mobile pantry is every 3rd Friday of the month. \nHours for this mobile pantry is  9:00 am to 2:00 pm. \nFood distribution often includes produce\, bread\, drinks\, pastries\, and snacks. \nMOBILE FOOD INFORMATION…. \nDURING this unusual time\, please drive to the east door and the food distribution will be handed out to you.
URL:https://www.easternplainscommunitypantry.org/event/may-mobile-food-pantry-2/
CATEGORIES:Mobile Pantry
END:VEVENT
BEGIN:VEVENT
DTSTART;TZID=America/Denver:20200418T090000
DTEND;TZID=America/Denver:20200418T140000
DTSTAMP:20260419T060153
CREATED:20200302T012915Z
LAST-MODIFIED:20200320T151730Z
UID:2227-1587200400-1587218400@www.easternplainscommunitypantry.org
SUMMARY:April Mobile Food Pantry
DESCRIPTION:The mobile pantry is every 3rd Friday of the month. \nHours for this mobile pantry is  9:00 am to 2:00 pm. \nFood distribution often includes produce\, bread\, drinks\, pastries\, and snacks. \n  \nDURING this unusual time\, please drive to the east door and the food distribution will be handed out to you.
URL:https://www.easternplainscommunitypantry.org/event/april-mobile-food-pantry/
CATEGORIES:Mobile Pantry
END:VEVENT
BEGIN:VEVENT
DTSTART;TZID=America/Denver:20200320T090000
DTEND;TZID=America/Denver:20200320T140000
DTSTAMP:20260419T060153
CREATED:20191230T170652Z
LAST-MODIFIED:20200320T151710Z
UID:2198-1584694800-1584712800@www.easternplainscommunitypantry.org
SUMMARY:March Mobile Pantry
DESCRIPTION:The mobile pantry is every 3rd Friday of the month. \nHours for this mobile pantry is  9:00 am to 2:00 pm. \nFood distribution often includes produce\, bread\, drinks\, pastries\, and snacks. \nDURING this unusual time\, please drive to the east door and the food distribution will be handed out to you.
URL:https://www.easternplainscommunitypantry.org/event/march-mobile-food-pantry/
CATEGORIES:Mobile Pantry
END:VEVENT
BEGIN:VEVENT
DTSTART;TZID=America/Denver:20200221T093000
DTEND;TZID=America/Denver:20200221T140000
DTSTAMP:20260419T060153
CREATED:20191212T005446Z
LAST-MODIFIED:20200302T013231Z
UID:2178-1582277400-1582293600@www.easternplainscommunitypantry.org
SUMMARY:February Mobile Pantry
DESCRIPTION:The mobile pantry is every 3rd Friday of the month. \nHours for this mobile pantry is  9:00 am to 2:00 pm. \nFood distribution often includes produce\, bread\, drinks\, pastries\, and snacks.
URL:https://www.easternplainscommunitypantry.org/event/february-mobile-pantry-3/
CATEGORIES:Mobile Pantry
END:VEVENT
BEGIN:VEVENT
DTSTART;TZID=America/Denver:20200117T090000
DTEND;TZID=America/Denver:20200117T140000
DTSTAMP:20260419T060153
CREATED:20191212T004800Z
LAST-MODIFIED:20191212T004800Z
UID:2176-1579251600-1579269600@www.easternplainscommunitypantry.org
SUMMARY:January Mobile Pantry
DESCRIPTION:The mobile pantry is every 3rd Friday of the month. \nHours for this mobile pantry is  9:00 am to 2:00 pm. \nFood distribution often includes produce\, bread\, drinks\, pastries\, and snacks.
URL:https://www.easternplainscommunitypantry.org/event/january-mobile-pantry-2/
CATEGORIES:Mobile Pantry
END:VEVENT
BEGIN:VEVENT
DTSTART;TZID=America/Denver:20191220T090000
DTEND;TZID=America/Denver:20191220T140000
DTSTAMP:20260419T060153
CREATED:20190806T022943Z
LAST-MODIFIED:20190806T022955Z
UID:2090-1576832400-1576850400@www.easternplainscommunitypantry.org
SUMMARY:December Mobile Pantry
DESCRIPTION:The mobile pantry is every 3rd Friday of the month. \nHours for this mobile pantry is  9:00 am to 2:00 pm. \nFood distribution often includes produce\, bread\, drinks\, pastries\, and snacks.
URL:https://www.easternplainscommunitypantry.org/event/december-mobile-pantry-3/
CATEGORIES:Mobile Pantry
END:VEVENT
BEGIN:VEVENT
DTSTART;TZID=America/Denver:20191115T090000
DTEND;TZID=America/Denver:20191115T140000
DTSTAMP:20260419T060153
CREATED:20190806T022846Z
LAST-MODIFIED:20190806T022846Z
UID:2088-1573808400-1573826400@www.easternplainscommunitypantry.org
SUMMARY:November Mobile Pantry
DESCRIPTION:The mobile pantry is every 3rd Friday of the month. \nHours for this mobile pantry is  9:00 am to 2:00 pm. \nFood distribution often includes produce\, bread\, drinks\, pastries\, and snacks.
URL:https://www.easternplainscommunitypantry.org/event/november-mobile-pantry-3/
CATEGORIES:Mobile Pantry
END:VEVENT
BEGIN:VEVENT
DTSTART;TZID=America/Denver:20191018T090000
DTEND;TZID=America/Denver:20191018T140000
DTSTAMP:20260419T060153
CREATED:20190806T022759Z
LAST-MODIFIED:20190806T022759Z
UID:2086-1571389200-1571407200@www.easternplainscommunitypantry.org
SUMMARY:October Mobile Pantry
DESCRIPTION:The mobile pantry is every 3rd Friday of the month. \nHours for this mobile pantry is  9:00 am to 2:00 pm. \nFood distribution often includes produce\, bread\, drinks\, pastries\, and snacks.
URL:https://www.easternplainscommunitypantry.org/event/october-mobile-pantry-3/
CATEGORIES:Mobile Pantry
END:VEVENT
BEGIN:VEVENT
DTSTART;TZID=America/Denver:20190920T090000
DTEND;TZID=America/Denver:20190920T140000
DTSTAMP:20260419T060153
CREATED:20190806T022616Z
LAST-MODIFIED:20190806T022720Z
UID:2083-1568970000-1568988000@www.easternplainscommunitypantry.org
SUMMARY:September Mobile Pantry
DESCRIPTION:The mobile pantry is every 3rd Friday of the month. \nHours for this mobile pantry is  9:00 am to 2:00 pm. \nFood distribution often includes produce\, bread\, drinks\, pastries\, and snacks.
URL:https://www.easternplainscommunitypantry.org/event/september-mobile-pantry-3/
CATEGORIES:Mobile Pantry
END:VEVENT
BEGIN:VEVENT
DTSTART;TZID=America/Denver:20190816T090000
DTEND;TZID=America/Denver:20190816T140000
DTSTAMP:20260419T060153
CREATED:20190402T215701Z
LAST-MODIFIED:20190402T215810Z
UID:1966-1565946000-1565964000@www.easternplainscommunitypantry.org
SUMMARY:AUGUST Mobile Pantry
DESCRIPTION:The mobile pantry is every 3rd Friday of the month. \nHours for this mobile pantry is  9:00 am to 2:00 pm. \nFood distribution often includes produce\, bread\, drinks\, pastries\, and snacks.
URL:https://www.easternplainscommunitypantry.org/event/august-mobile-pantry-2/
CATEGORIES:Mobile Pantry
END:VEVENT
BEGIN:VEVENT
DTSTART;TZID=America/Denver:20190719T090000
DTEND;TZID=America/Denver:20190719T140000
DTSTAMP:20260419T060153
CREATED:20190402T215611Z
LAST-MODIFIED:20190402T215733Z
UID:1964-1563526800-1563544800@www.easternplainscommunitypantry.org
SUMMARY:JULY Mobile Pantry
DESCRIPTION:The mobile pantry is every 3rd Friday of the month. \nHours for this mobile pantry is  9:00 am to 2:00 pm. \nFood distribution often includes produce\, bread\, drinks\, pastries\, and snacks.
URL:https://www.easternplainscommunitypantry.org/event/july-mobile-pantry/
CATEGORIES:Mobile Pantry
END:VEVENT
BEGIN:VEVENT
DTSTART;TZID=America/Denver:20190621T090000
DTEND;TZID=America/Denver:20190621T140000
DTSTAMP:20260419T060153
CREATED:20190402T215530Z
LAST-MODIFIED:20190402T215747Z
UID:1962-1561107600-1561125600@www.easternplainscommunitypantry.org
SUMMARY:JUNE Mobile Pantry
DESCRIPTION:The mobile pantry is every 3rd Friday of the month. \nHours for this mobile pantry is  9:00 am to 2:00 pm. \nFood distribution often includes produce\, bread\, drinks\, pastries\, and snacks.
URL:https://www.easternplainscommunitypantry.org/event/june-mobile-pantry/
CATEGORIES:Mobile Pantry
END:VEVENT
BEGIN:VEVENT
DTSTART;TZID=America/Denver:20190518T090000
DTEND;TZID=America/Denver:20190518T120000
DTSTAMP:20260419T060153
CREATED:20190402T220129Z
LAST-MODIFIED:20190402T220129Z
UID:1973-1558170000-1558180800@www.easternplainscommunitypantry.org
SUMMARY:Pantry Open on Saturday
DESCRIPTION:Our pantry hours to include one Saturday during the month.  We will now be open the 3rd Saturday from 9:00 to noon to better server our community.
URL:https://www.easternplainscommunitypantry.org/event/pantry-open-on-saturday-2/
CATEGORIES:Mobile Pantry
END:VEVENT
BEGIN:VEVENT
DTSTART;TZID=America/Denver:20190517T090000
DTEND;TZID=America/Denver:20190517T140000
DTSTAMP:20260419T060153
CREATED:20190107T165318Z
LAST-MODIFIED:20190107T165318Z
UID:1844-1558083600-1558101600@www.easternplainscommunitypantry.org
SUMMARY:MAY Mobile Pantry
DESCRIPTION:The mobile pantry is every 3rd Friday of the month. \nHours for this mobile pantry is  9:00 am to 2:00 pm. \nFood distribution often includes produce\, bread\, drinks\, pastries\, and snacks.
URL:https://www.easternplainscommunitypantry.org/event/may-mobile-pantry/
CATEGORIES:Mobile Pantry
END:VEVENT
BEGIN:VEVENT
DTSTART;TZID=America/Denver:20190420T090000
DTEND;TZID=America/Denver:20190420T120000
DTSTAMP:20260419T060153
CREATED:20190402T220043Z
LAST-MODIFIED:20190402T220620Z
UID:1971-1555750800-1555761600@www.easternplainscommunitypantry.org
SUMMARY:Pantry Open on Saturday
DESCRIPTION:Our pantry hours to include one Saturday during the month.  We will now be open the 3rd Saturday/Saturday following Mobile Pantry from 9:00 to noon to better serve our community.
URL:https://www.easternplainscommunitypantry.org/event/pantry-open-on-saturday/
CATEGORIES:Mobile Pantry
END:VEVENT
BEGIN:VEVENT
DTSTART;TZID=America/Denver:20190419T090000
DTEND;TZID=America/Denver:20190419T140000
DTSTAMP:20260419T060153
CREATED:20190107T165238Z
LAST-MODIFIED:20190107T165238Z
UID:1842-1555664400-1555682400@www.easternplainscommunitypantry.org
SUMMARY:APRIL Mobile Pantry
DESCRIPTION:The mobile pantry is every 3rd Friday of the month. \nHours for this mobile pantry is  9:00 am to 2:00 pm. \nFood distribution often includes produce\, bread\, drinks\, pastries\, and snacks.
URL:https://www.easternplainscommunitypantry.org/event/april-mobile-pantry-2/
CATEGORIES:Mobile Pantry
END:VEVENT
BEGIN:VEVENT
DTSTART;TZID=America/Denver:20190322T090000
DTEND;TZID=America/Denver:20190322T140000
DTSTAMP:20260419T060153
CREATED:20190107T165155Z
LAST-MODIFIED:20190315T193838Z
UID:1840-1553245200-1553263200@www.easternplainscommunitypantry.org
SUMMARY:MARCH Mobile Pantry - Rescheduled
DESCRIPTION:The mobile pantry usually comes every 3rd Friday of the month. \nBecause of the blizzard\, the mobile pantry will be delivering on the 22nd.  \nHours for this mobile pantry is  9:00 am to 2:00 pm. \nFood distribution often includes produce\, bread\, drinks\, pastries\, and snacks.
URL:https://www.easternplainscommunitypantry.org/event/march-mobile-pantry-2/
CATEGORIES:Mobile Pantry
END:VEVENT
BEGIN:VEVENT
DTSTART;TZID=America/Denver:20190215T090000
DTEND;TZID=America/Denver:20190215T140000
DTSTAMP:20260419T060153
CREATED:20181208T173154Z
LAST-MODIFIED:20181208T173203Z
UID:1819-1550221200-1550239200@www.easternplainscommunitypantry.org
SUMMARY:FEBRUARY Mobile Pantry
DESCRIPTION:The mobile pantry is every 3rd Friday of the month. \nHours for this mobile pantry is  9:00 am to 2:00 pm. \nFood distribution often includes produce\, bread\, drinks\, pastries\, and snacks.
URL:https://www.easternplainscommunitypantry.org/event/february-mobile-pantry-2/
CATEGORIES:Mobile Pantry
END:VEVENT
BEGIN:VEVENT
DTSTART;TZID=America/Denver:20190118T090000
DTEND;TZID=America/Denver:20190118T140000
DTSTAMP:20260419T060153
CREATED:20181208T173115Z
LAST-MODIFIED:20181208T173115Z
UID:1817-1547802000-1547820000@www.easternplainscommunitypantry.org
SUMMARY:JANUARY Mobile Pantry
DESCRIPTION:The mobile pantry is every 3rd Friday of the month. \nHours for this mobile pantry is  9:00 am to 2:00 pm. \nFood distribution often includes produce\, bread\, drinks\, pastries\, and snacks.
URL:https://www.easternplainscommunitypantry.org/event/january-mobile-pantry/
CATEGORIES:Mobile Pantry
END:VEVENT
BEGIN:VEVENT
DTSTART;TZID=America/Denver:20181019T090000
DTEND;TZID=America/Denver:20181019T140000
DTSTAMP:20260419T060153
CREATED:20180912T192512Z
LAST-MODIFIED:20180912T201716Z
UID:1482-1539939600-1539957600@www.easternplainscommunitypantry.org
SUMMARY:October Mobile Pantry
DESCRIPTION:The mobile pantry is every 3rd Friday of the month. \nHours for this mobile pantry is  9:00 am to 2:00 pm. \nFood distribution often includes produce\, bread\, drinks\, pastries\, and snacks.
URL:https://www.easternplainscommunitypantry.org/event/october-mobile-pantry-2/
CATEGORIES:Mobile Pantry
END:VEVENT
END:VCALENDAR