BEGIN:VCALENDAR
VERSION:2.0
PRODID:-//Eastern Plains Community Pantry - ECPv6.3.5//NONSGML v1.0//EN
CALSCALE:GREGORIAN
METHOD:PUBLISH
X-ORIGINAL-URL:https://www.easternplainscommunitypantry.org
X-WR-CALDESC:Events for Eastern Plains Community Pantry
REFRESH-INTERVAL;VALUE=DURATION:PT1H
X-Robots-Tag:noindex
X-PUBLISHED-TTL:PT1H
BEGIN:VTIMEZONE
TZID:America/Denver
BEGIN:DAYLIGHT
TZOFFSETFROM:-0700
TZOFFSETTO:-0600
TZNAME:MDT
DTSTART:20160313T090000
END:DAYLIGHT
BEGIN:STANDARD
TZOFFSETFROM:-0600
TZOFFSETTO:-0700
TZNAME:MST
DTSTART:20161106T080000
END:STANDARD
BEGIN:DAYLIGHT
TZOFFSETFROM:-0700
TZOFFSETTO:-0600
TZNAME:MDT
DTSTART:20170312T090000
END:DAYLIGHT
BEGIN:STANDARD
TZOFFSETFROM:-0600
TZOFFSETTO:-0700
TZNAME:MST
DTSTART:20171105T080000
END:STANDARD
BEGIN:DAYLIGHT
TZOFFSETFROM:-0700
TZOFFSETTO:-0600
TZNAME:MDT
DTSTART:20180311T090000
END:DAYLIGHT
BEGIN:STANDARD
TZOFFSETFROM:-0600
TZOFFSETTO:-0700
TZNAME:MST
DTSTART:20181104T080000
END:STANDARD
END:VTIMEZONE
BEGIN:VEVENT
DTSTART;TZID=America/Denver:20180720T100000
DTEND;TZID=America/Denver:20180720T140000
DTSTAMP:20260419T124701
CREATED:20180420T043841Z
LAST-MODIFIED:20180420T044241Z
UID:1431-1532080800-1532095200@www.easternplainscommunitypantry.org
SUMMARY:July Mobile Pantry
DESCRIPTION:The mobile pantry is every 3rd Friday of the month. \nHours for this mobile pantry is  10:00 am to 2:00 pm. \nFood distribution often includes produce\, bread\, drinks\, pastries\, and snacks.
URL:https://www.easternplainscommunitypantry.org/event/july-mobile-food-pantry/
CATEGORIES:Mobile Pantry
END:VEVENT
BEGIN:VEVENT
DTSTART;TZID=America/Denver:20180615T100000
DTEND;TZID=America/Denver:20180615T140000
DTSTAMP:20260419T124701
CREATED:20180420T043755Z
LAST-MODIFIED:20180420T044227Z
UID:1429-1529056800-1529071200@www.easternplainscommunitypantry.org
SUMMARY:June Mobile Pantry
DESCRIPTION:The mobile pantry is every 3rd Friday of the month. \nHours for this mobile pantry is  10:00 am to 2:00 pm. \nFood distribution often includes produce\, bread\, drinks\, pastries\, and snacks.
URL:https://www.easternplainscommunitypantry.org/event/june-mobile-food-pantry/
CATEGORIES:Mobile Pantry
END:VEVENT
BEGIN:VEVENT
DTSTART;TZID=America/Denver:20180518T100000
DTEND;TZID=America/Denver:20180518T140000
DTSTAMP:20260419T124701
CREATED:20180420T043633Z
LAST-MODIFIED:20180420T044210Z
UID:1426-1526637600-1526652000@www.easternplainscommunitypantry.org
SUMMARY:May Mobile Pantry
DESCRIPTION:The mobile pantry is every 3rd Friday of the month. \nHours for this mobile pantry is  10:00 am to 2:00 pm. \nFood distribution often includes produce\, bread\, drinks\, pastries\, and snacks.
URL:https://www.easternplainscommunitypantry.org/event/may-mobile-food-pantry/
CATEGORIES:Mobile Pantry
END:VEVENT
BEGIN:VEVENT
DTSTART;TZID=America/Denver:20180420T100000
DTEND;TZID=America/Denver:20180420T140000
DTSTAMP:20260419T124701
CREATED:20171205T164414Z
LAST-MODIFIED:20171205T164414Z
UID:1237-1524218400-1524232800@www.easternplainscommunitypantry.org
SUMMARY:April Mobile Pantry
DESCRIPTION:The mobile pantry is every 3rd Friday of the month. \nHours for this mobile pantry is  10:00 am to 2:00 pm. \nFood distribution often includes produce\, bread\, drinks\, pastries\, and snacks.
URL:https://www.easternplainscommunitypantry.org/event/april-mobile-pantry/
CATEGORIES:Mobile Pantry
END:VEVENT
BEGIN:VEVENT
DTSTART;TZID=America/Denver:20180316T100000
DTEND;TZID=America/Denver:20180316T140000
DTSTAMP:20260419T124701
CREATED:20171205T164332Z
LAST-MODIFIED:20171205T164332Z
UID:1235-1521194400-1521208800@www.easternplainscommunitypantry.org
SUMMARY:March Mobile Pantry
DESCRIPTION:The mobile pantry is every 3rd Friday of the month. \nHours for this mobile pantry is  10:00 am to 2:00 pm. \nFood distribution often includes produce\, bread\, drinks\, pastries\, and snacks.
URL:https://www.easternplainscommunitypantry.org/event/march-mobile-pantry/
CATEGORIES:Mobile Pantry
END:VEVENT
BEGIN:VEVENT
DTSTART;TZID=America/Denver:20180216T100000
DTEND;TZID=America/Denver:20180216T140000
DTSTAMP:20260419T124701
CREATED:20171205T164244Z
LAST-MODIFIED:20171205T164244Z
UID:1233-1518775200-1518789600@www.easternplainscommunitypantry.org
SUMMARY:February Mobile Pantry
DESCRIPTION:The mobile pantry is every 3rd Friday of the month. \nHours for this mobile pantry is  10:00 am to 2:00 pm. \nFood distribution often includes produce\, bread\, drinks\, pastries\, and snacks.
URL:https://www.easternplainscommunitypantry.org/event/february-mobile-pantry/
CATEGORIES:Mobile Pantry
END:VEVENT
BEGIN:VEVENT
DTSTART;TZID=America/Denver:20180119T100000
DTEND;TZID=America/Denver:20180119T140000
DTSTAMP:20260419T124701
CREATED:20171205T164101Z
LAST-MODIFIED:20171205T164207Z
UID:1230-1516356000-1516370400@www.easternplainscommunitypantry.org
SUMMARY:January Mobile Pantry
DESCRIPTION:The mobile pantry is every 3rd Friday of the month. \nHours for this mobile pantry is  10:00 am to 2:00 pm. \nFood distribution often includes produce\, bread\, drinks\, pastries\, and snacks.
URL:https://www.easternplainscommunitypantry.org/event/january-mobile-food/
CATEGORIES:Mobile Pantry
END:VEVENT
BEGIN:VEVENT
DTSTART;TZID=America/Denver:20171215T100000
DTEND;TZID=America/Denver:20171215T140000
DTSTAMP:20260419T124701
CREATED:20171106T225430Z
LAST-MODIFIED:20171106T225430Z
UID:1156-1513332000-1513346400@www.easternplainscommunitypantry.org
SUMMARY:December Mobile Pantry
DESCRIPTION:The mobile pantry is every 3rd Friday of the month. \nHours for this mobile pantry is  10:00 am to 2:00 pm. \nFood distribution often includes produce\, bread\, drinks\, pastries\, and snacks.
URL:https://www.easternplainscommunitypantry.org/event/december-mobile-pantry/
CATEGORIES:Mobile Pantry
END:VEVENT
BEGIN:VEVENT
DTSTART;TZID=America/Denver:20171117T100000
DTEND;TZID=America/Denver:20171117T140000
DTSTAMP:20260419T124701
CREATED:20170724T233656Z
LAST-MODIFIED:20170724T233656Z
UID:1026-1510912800-1510927200@www.easternplainscommunitypantry.org
SUMMARY:November Mobile Pantry
DESCRIPTION:The mobile pantry is every 3rd Friday of the month. \nHours for this mobile pantry is  10:00 am to 2:00 pm. \nFood distribution often includes produce\, bread\, drinks\, pastries\, and snacks.
URL:https://www.easternplainscommunitypantry.org/event/november-mobile-pantry/
CATEGORIES:Mobile Pantry
END:VEVENT
BEGIN:VEVENT
DTSTART;TZID=America/Denver:20171020T100000
DTEND;TZID=America/Denver:20171020T140000
DTSTAMP:20260419T124701
CREATED:20170724T233616Z
LAST-MODIFIED:20170724T233616Z
UID:1024-1508493600-1508508000@www.easternplainscommunitypantry.org
SUMMARY:October Mobile Pantry
DESCRIPTION:The mobile pantry is every 3rd Friday of the month. \nHours for this mobile pantry is  10:00 am to 2:00 pm. \nFood distribution often includes produce\, bread\, drinks\, pastries\, and snacks.
URL:https://www.easternplainscommunitypantry.org/event/october-mobile-pantry/
CATEGORIES:Mobile Pantry
END:VEVENT
BEGIN:VEVENT
DTSTART;TZID=America/Denver:20170915T100000
DTEND;TZID=America/Denver:20170915T140000
DTSTAMP:20260419T124701
CREATED:20170724T233528Z
LAST-MODIFIED:20170724T233528Z
UID:1022-1505469600-1505484000@www.easternplainscommunitypantry.org
SUMMARY:September Mobile Pantry
DESCRIPTION:The mobile pantry is every 3rd Friday of the month. \nHours for this mobile pantry is  10:00 am to 2:00 pm. \nFood distribution often includes produce\, bread\, drinks\, pastries\, and snacks.
URL:https://www.easternplainscommunitypantry.org/event/september-mobile-pantry/
CATEGORIES:Mobile Pantry
END:VEVENT
BEGIN:VEVENT
DTSTART;TZID=America/Denver:20170818T100000
DTEND;TZID=America/Denver:20170818T140000
DTSTAMP:20260419T124701
CREATED:20170130T203909Z
LAST-MODIFIED:20170801T132353Z
UID:806-1503050400-1503064800@www.easternplainscommunitypantry.org
SUMMARY:August Mobile Food Pantry
DESCRIPTION:The mobile pantry is every 3rd Friday of the month. \nHours for this mobile pantry is  10:00 am to 2:00 pm. \nFood distribution often includes produce\, bread\, drinks\, pastries\, and snacks.
URL:https://www.easternplainscommunitypantry.org/event/mobile-food-pantry-8/
CATEGORIES:Mobile Pantry
END:VEVENT
BEGIN:VEVENT
DTSTART;TZID=America/Denver:20170721T100000
DTEND;TZID=America/Denver:20170721T140000
DTSTAMP:20260419T124701
CREATED:20170130T203824Z
LAST-MODIFIED:20170130T203824Z
UID:804-1500631200-1500645600@www.easternplainscommunitypantry.org
SUMMARY:Mobile Food Pantry
DESCRIPTION:The mobile pantry is every 3rd Friday of the month. \nHours for this mobile pantry is  10:00 am to 2:00 pm. \nFood distribution often includes produce\, bread\, drinks\, pastries\, and snacks.
URL:https://www.easternplainscommunitypantry.org/event/mobile-food-pantry-7/
CATEGORIES:Mobile Pantry
END:VEVENT
BEGIN:VEVENT
DTSTART;TZID=America/Denver:20170616T100000
DTEND;TZID=America/Denver:20170616T140000
DTSTAMP:20260419T124701
CREATED:20170130T203736Z
LAST-MODIFIED:20170130T203736Z
UID:802-1497607200-1497621600@www.easternplainscommunitypantry.org
SUMMARY:Mobile Food Pantry
DESCRIPTION:The mobile pantry is every 3rd Friday of the month. \nHours for this mobile pantry is  10:00 am to 2:00 pm. \nFood distribution often includes produce\, bread\, drinks\, pastries\, and snacks.
URL:https://www.easternplainscommunitypantry.org/event/mobile-food-pantry-6/
CATEGORIES:Mobile Pantry
END:VEVENT
BEGIN:VEVENT
DTSTART;TZID=America/Denver:20170519T100000
DTEND;TZID=America/Denver:20170519T140000
DTSTAMP:20260419T124701
CREATED:20170130T203645Z
LAST-MODIFIED:20170130T203645Z
UID:800-1495188000-1495202400@www.easternplainscommunitypantry.org
SUMMARY:Mobile Food Pantry
DESCRIPTION:The mobile pantry is every 3rd Friday of the month. \nHours for this mobile pantry is  10:00 am to 2:00 pm. \nFood distribution often includes produce\, bread\, drinks\, pastries\, and snacks.
URL:https://www.easternplainscommunitypantry.org/event/mobile-food-pantry-5/
CATEGORIES:Mobile Pantry
END:VEVENT
BEGIN:VEVENT
DTSTART;TZID=America/Denver:20170421T100000
DTEND;TZID=America/Denver:20170421T140000
DTSTAMP:20260419T124701
CREATED:20170130T203609Z
LAST-MODIFIED:20170130T203609Z
UID:798-1492768800-1492783200@www.easternplainscommunitypantry.org
SUMMARY:Mobile Food Pantry
DESCRIPTION:The mobile pantry is every 3rd Friday of the month. \nHours for this mobile pantry is  10:00 am to 2:00 pm. \nFood distribution often includes produce\, bread\, drinks\, pastries\, and snacks.
URL:https://www.easternplainscommunitypantry.org/event/mobile-food-pantry-4/
CATEGORIES:Mobile Pantry
END:VEVENT
BEGIN:VEVENT
DTSTART;TZID=America/Denver:20170317T100000
DTEND;TZID=America/Denver:20170317T140000
DTSTAMP:20260419T124701
CREATED:20170130T203526Z
LAST-MODIFIED:20170130T203526Z
UID:796-1489744800-1489759200@www.easternplainscommunitypantry.org
SUMMARY:Mobile Food Pantry
DESCRIPTION:The mobile pantry is every 3rd Friday of the month. \nHours for this mobile pantry is  10:00 am to 2:00 pm. \nFood distribution often includes produce\, bread\, drinks\, pastries\, and snacks.
URL:https://www.easternplainscommunitypantry.org/event/mobile-food-pantry-3/
CATEGORIES:Mobile Pantry
END:VEVENT
BEGIN:VEVENT
DTSTART;TZID=America/Denver:20170217T100000
DTEND;TZID=America/Denver:20170217T140000
DTSTAMP:20260419T124701
CREATED:20170130T203329Z
LAST-MODIFIED:20170130T203330Z
UID:794-1487325600-1487340000@www.easternplainscommunitypantry.org
SUMMARY:Mobile Food Pantry
DESCRIPTION:The mobile pantry is every 3rd Friday of the month. \nHours for this mobile pantry is  10:00 am to 2:00 pm. \nFood distribution often includes produce\, bread\, drinks\, pastries\, and snacks.
URL:https://www.easternplainscommunitypantry.org/event/mobile-food-pantry-2/
CATEGORIES:Mobile Pantry
END:VEVENT
BEGIN:VEVENT
DTSTART;TZID=America/Denver:20170120T090000
DTEND;TZID=America/Denver:20170120T140000
DTSTAMP:20260419T124701
CREATED:20170130T203232Z
LAST-MODIFIED:20170130T203232Z
UID:792-1484902800-1484920800@www.easternplainscommunitypantry.org
SUMMARY:January Mobile Food Pantry
DESCRIPTION:The mobile pantry is every 3rd Friday of the month. \nHours for this mobile pantry is  10:00 am to 2:00 pm. \nFood distribution often includes produce\, bread\, drinks\, pastries\, and snacks.
URL:https://www.easternplainscommunitypantry.org/event/january-mobile-food-pantry/
CATEGORIES:Mobile Pantry
END:VEVENT
BEGIN:VEVENT
DTSTART;TZID=America/Denver:20161216T100000
DTEND;TZID=America/Denver:20161216T140000
DTSTAMP:20260419T124701
CREATED:20161004T030700Z
LAST-MODIFIED:20161129T213942Z
UID:636-1481882400-1481896800@www.easternplainscommunitypantry.org
SUMMARY:December Mobile Food Distribution
DESCRIPTION:The mobile pantry is every 3rd Friday of the month. \nHours for this mobile pantry is  10:00 am to 2:00 pm. \nFood distribution often includes produce\, bread\, drinks\, pastries\, and snacks.
URL:https://www.easternplainscommunitypantry.org/event/december-mobile-food-distribution/
CATEGORIES:Mobile Pantry
END:VEVENT
BEGIN:VEVENT
DTSTART;TZID=America/Denver:20161118T100000
DTEND;TZID=America/Denver:20161118T140000
DTSTAMP:20260419T124701
CREATED:20160809T125409Z
LAST-MODIFIED:20161004T030504Z
UID:586-1479463200-1479477600@www.easternplainscommunitypantry.org
SUMMARY:November Mobile Food Distribution
DESCRIPTION:The mobile pantry is every 3rd Friday of the month. \nHours for this mobile pantry is  10:00 am to 2:00 pm. \nFood distribution often includes produce\, bread\, drinks\, pastries\, and snacks.
URL:https://www.easternplainscommunitypantry.org/event/november-mobile-food-distribution/
CATEGORIES:Mobile Pantry
END:VEVENT
BEGIN:VEVENT
DTSTART;TZID=America/Denver:20161021T100000
DTEND;TZID=America/Denver:20161021T140000
DTSTAMP:20260419T124701
CREATED:20160809T124417Z
LAST-MODIFIED:20161004T030526Z
UID:583-1477044000-1477058400@www.easternplainscommunitypantry.org
SUMMARY:October Mobile Food Distribution
DESCRIPTION:The mobile pantry is every 3rd Friday of the month. \nHours for this mobile pantry is  10:00 am to 2:00 pm. \nFood distribution often includes produce\, bread\, drinks\, pastries\, and snacks.
URL:https://www.easternplainscommunitypantry.org/event/october-mobile-food-distribution/
CATEGORIES:Mobile Pantry
END:VEVENT
BEGIN:VEVENT
DTSTART;TZID=America/Denver:20160916T100000
DTEND;TZID=America/Denver:20160916T150000
DTSTAMP:20260419T124701
CREATED:20160809T124334Z
LAST-MODIFIED:20160809T125144Z
UID:582-1474020000-1474038000@www.easternplainscommunitypantry.org
SUMMARY:September Mobile Food Distribution
DESCRIPTION:The mobile pantry is every 3rd Friday of the month. \nHours for this mobile pantry is  10:00 am to 3:00 pm. \nFood distribution often includes produce\, bread\, drinks\, pastries\, and snacks.
URL:https://www.easternplainscommunitypantry.org/event/september-mobile-food-distribution/
CATEGORIES:Mobile Pantry
END:VEVENT
BEGIN:VEVENT
DTSTART;TZID=America/Denver:20160819T100000
DTEND;TZID=America/Denver:20160819T150000
DTSTAMP:20260419T124701
CREATED:20160809T124243Z
LAST-MODIFIED:20160809T125124Z
UID:581-1471600800-1471618800@www.easternplainscommunitypantry.org
SUMMARY:August Mobile Food Distribution
DESCRIPTION:The mobile pantry is every 3rd Friday of the month. \nHours for this mobile pantry is  10:00 am to 3:00 pm. \nFood distribution often includes produce\, bread\, drinks\, pastries\, and snacks.
URL:https://www.easternplainscommunitypantry.org/event/august-mobile-food/
CATEGORIES:Mobile Pantry
END:VEVENT
BEGIN:VEVENT
DTSTART;TZID=America/Denver:20160715T110000
DTEND;TZID=America/Denver:20160715T160000
DTSTAMP:20260419T124701
CREATED:20160517T013235Z
LAST-MODIFIED:20160517T013826Z
UID:542-1468580400-1468598400@www.easternplainscommunitypantry.org
SUMMARY:July Mobile Pantry Food  Distribution
DESCRIPTION:The mobile pantry is every 3rd Friday of the month. \nHours for this mobile pantry is  11:00 am to 4:00 pm. \nFood distribution often includes produce\, bread\, drinks\, pastries\, and snacks.
URL:https://www.easternplainscommunitypantry.org/event/july-mobile-food-pantry-distribution/
CATEGORIES:Mobile Pantry
END:VEVENT
BEGIN:VEVENT
DTSTART;TZID=America/Denver:20160617T110000
DTEND;TZID=America/Denver:20160617T160000
DTSTAMP:20260419T124701
CREATED:20160517T013005Z
LAST-MODIFIED:20160517T013801Z
UID:541-1466161200-1466179200@www.easternplainscommunitypantry.org
SUMMARY:June Mobile Pantry Food Distribution
DESCRIPTION:The mobile pantry is every 3rd Friday of the month. \nHours for this mobile pantry is  11:00 am to 4:00 pm. \nFood distribution often includes produce\, bread\, drinks\, pastries\, and snacks.
URL:https://www.easternplainscommunitypantry.org/event/mobile-food-pantry/
CATEGORIES:Mobile Pantry
END:VEVENT
BEGIN:VEVENT
DTSTART;TZID=America/Denver:20160520T110000
DTEND;TZID=America/Denver:20160520T160000
DTSTAMP:20260419T124702
CREATED:20160331T043947Z
LAST-MODIFIED:20160517T013126Z
UID:485-1463742000-1463760000@www.easternplainscommunitypantry.org
SUMMARY:May Mobile Pantry Food Distribution
DESCRIPTION:The mobile pantry is every 3rd Friday of the month. Hours for this mobile pantry is  11:00 am to 4:00 pm. Food distribution often includes produce\, bread\, drinks\, pastries\, and snacks.
URL:https://www.easternplainscommunitypantry.org/event/mobile-pantry-food-distribution-2/
CATEGORIES:Mobile Pantry
END:VEVENT
BEGIN:VEVENT
DTSTART;TZID=America/Denver:20160415T110000
DTEND;TZID=America/Denver:20160415T110000
DTSTAMP:20260419T124702
CREATED:20160215T162813Z
LAST-MODIFIED:20160215T162900Z
UID:450-1460718000-1460718000@www.easternplainscommunitypantry.org
SUMMARY:April - Mobile Pantry Food distribution
DESCRIPTION:The mobile pantry is every 3rd Friday of the month. \nHours for this mobile pantry is  11:00 am to 4:00 pm. \nFood distribution often includes produce\, bread\, drinks\, pastries\, and snacks. \n 
URL:https://www.easternplainscommunitypantry.org/event/april-mobile-pantry-food-distribution/
CATEGORIES:Mobile Pantry
END:VEVENT
BEGIN:VEVENT
DTSTART;TZID=America/Denver:20160318T110000
DTEND;TZID=America/Denver:20160318T110000
DTSTAMP:20260419T124702
CREATED:20160215T162653Z
LAST-MODIFIED:20160215T162653Z
UID:449-1458298800-1458298800@www.easternplainscommunitypantry.org
SUMMARY:March - Mobile Pantry Food distributuion
DESCRIPTION:The mobile pantry is every 3rd Friday of the month. \nHours for this mobile pantry is  11:00 am to 4:00 pm. \nFood distribution often includes produce\, bread\, drinks\, pastries\, and snacks. \n 
URL:https://www.easternplainscommunitypantry.org/event/march-mobile-pantry-food-distributuion/
CATEGORIES:Mobile Pantry
END:VEVENT
BEGIN:VEVENT
DTSTART;TZID=America/Denver:20160219T110000
DTEND;TZID=America/Denver:20160219T110000
DTSTAMP:20260419T124702
CREATED:20160215T162523Z
LAST-MODIFIED:20160517T013431Z
UID:448-1455879600-1455879600@www.easternplainscommunitypantry.org
SUMMARY:February Mobile Pantry Food Distribution
DESCRIPTION:The mobile pantry is every 3rd Friday of the month. \nHours for this mobile pantry is  11:00 am to 4:00 pm. \nFood distribution often includes produce\, bread\, drinks\, pastries\, and snacks. \n 
URL:https://www.easternplainscommunitypantry.org/event/mobile-pantry-food-distribution/
CATEGORIES:Mobile Pantry
END:VEVENT
END:VCALENDAR