BEGIN:VCALENDAR
VERSION:2.0
PRODID:-//Eastern Plains Community Pantry - ECPv6.3.5//NONSGML v1.0//EN
CALSCALE:GREGORIAN
METHOD:PUBLISH
X-WR-CALNAME:Eastern Plains Community Pantry
X-ORIGINAL-URL:https://www.easternplainscommunitypantry.org
X-WR-CALDESC:Events for Eastern Plains Community Pantry
REFRESH-INTERVAL;VALUE=DURATION:PT1H
X-Robots-Tag:noindex
X-PUBLISHED-TTL:PT1H
BEGIN:VTIMEZONE
TZID:America/Denver
BEGIN:DAYLIGHT
TZOFFSETFROM:-0700
TZOFFSETTO:-0600
TZNAME:MDT
DTSTART:20220313T090000
END:DAYLIGHT
BEGIN:STANDARD
TZOFFSETFROM:-0600
TZOFFSETTO:-0700
TZNAME:MST
DTSTART:20221106T080000
END:STANDARD
END:VTIMEZONE
BEGIN:VEVENT
DTSTART;TZID=America/Denver:20221021T090000
DTEND;TZID=America/Denver:20221021T130000
DTSTAMP:20260420T002252
CREATED:20220730T193325Z
LAST-MODIFIED:20220730T193325Z
UID:3018-1666342800-1666357200@www.easternplainscommunitypantry.org
SUMMARY:October Mobile Pantry
DESCRIPTION:Mobile Pantry is on the 3rd Friday of the month from 9:00 am to 1:00 pm.
URL:https://www.easternplainscommunitypantry.org/event/october-mobile-pantry-4/
LOCATION:CO
CATEGORIES:Mobile Pantry
END:VEVENT
END:VCALENDAR