BEGIN:VCALENDAR
VERSION:2.0
PRODID:-//Eastern Plains Community Pantry - ECPv6.3.5//NONSGML v1.0//EN
CALSCALE:GREGORIAN
METHOD:PUBLISH
X-WR-CALNAME:Eastern Plains Community Pantry
X-ORIGINAL-URL:https://www.easternplainscommunitypantry.org
X-WR-CALDESC:Events for Eastern Plains Community Pantry
REFRESH-INTERVAL;VALUE=DURATION:PT1H
X-Robots-Tag:noindex
X-PUBLISHED-TTL:PT1H
BEGIN:VTIMEZONE
TZID:America/Denver
BEGIN:DAYLIGHT
TZOFFSETFROM:-0700
TZOFFSETTO:-0600
TZNAME:MDT
DTSTART:20210314T090000
END:DAYLIGHT
BEGIN:STANDARD
TZOFFSETFROM:-0600
TZOFFSETTO:-0700
TZNAME:MST
DTSTART:20211107T080000
END:STANDARD
END:VTIMEZONE
BEGIN:VEVENT
DTSTART;TZID=America/Denver:20211217T090000
DTEND;TZID=America/Denver:20211217T130000
DTSTAMP:20260420T153928
CREATED:20211201T194706Z
LAST-MODIFIED:20211201T194706Z
UID:2775-1639731600-1639746000@www.easternplainscommunitypantry.org
SUMMARY:Mobile Food Pantry - December 17th
DESCRIPTION:MOBILE FOOD INFORMATION …(3rd Fridays of the month) \nFor pickup\, please drive to the east door and the food distribution will be handed out to you.
URL:https://www.easternplainscommunitypantry.org/event/mobile-food-pantry-december-17th/
LOCATION:CO
CATEGORIES:Mobile Pantry
END:VEVENT
END:VCALENDAR