BEGIN:VCALENDAR
VERSION:2.0
PRODID:-//Eastern Plains Community Pantry - ECPv6.3.5//NONSGML v1.0//EN
CALSCALE:GREGORIAN
METHOD:PUBLISH
X-WR-CALNAME:Eastern Plains Community Pantry
X-ORIGINAL-URL:https://www.easternplainscommunitypantry.org
X-WR-CALDESC:Events for Eastern Plains Community Pantry
REFRESH-INTERVAL;VALUE=DURATION:PT1H
X-Robots-Tag:noindex
X-PUBLISHED-TTL:PT1H
BEGIN:VTIMEZONE
TZID:America/Denver
BEGIN:DAYLIGHT
TZOFFSETFROM:-0700
TZOFFSETTO:-0600
TZNAME:MDT
DTSTART:20210314T090000
END:DAYLIGHT
BEGIN:STANDARD
TZOFFSETFROM:-0600
TZOFFSETTO:-0700
TZNAME:MST
DTSTART:20211107T080000
END:STANDARD
END:VTIMEZONE
BEGIN:VEVENT
DTSTART;TZID=America/Denver:20211015T090000
DTEND;TZID=America/Denver:20211015T130000
DTSTAMP:20260420T183119
CREATED:20210902T031000Z
LAST-MODIFIED:20210902T031101Z
UID:2716-1634288400-1634302800@www.easternplainscommunitypantry.org
SUMMARY:October Mobile Pantry
DESCRIPTION:The Mobile Pantry will be from 9:00 am to 1:00 pm. Drive-by Pickup by the east door of the pantry.
URL:https://www.easternplainscommunitypantry.org/event/october-mobile-food-pantry-2/
LOCATION:CO
CATEGORIES:Mobile Pantry
END:VEVENT
BEGIN:VEVENT
DTSTART;TZID=America/Denver:20211015T090000
DTEND;TZID=America/Denver:20211015T130000
DTSTAMP:20260420T183119
CREATED:20210928T022215Z
LAST-MODIFIED:20210928T022215Z
UID:2733-1634288400-1634302800@www.easternplainscommunitypantry.org
SUMMARY:November Mobile Pantry
DESCRIPTION:The Mobile Pantry will be from 9:00 am to 1:00 pm. Drive-by Pickup by the east door of the pantry.
URL:https://www.easternplainscommunitypantry.org/event/november-mobile-pantry-4/
LOCATION:CO
CATEGORIES:Mobile Pantry
END:VEVENT
END:VCALENDAR