BEGIN:VCALENDAR
VERSION:2.0
PRODID:-//Eastern Plains Community Pantry - ECPv6.3.5//NONSGML v1.0//EN
CALSCALE:GREGORIAN
METHOD:PUBLISH
X-ORIGINAL-URL:https://www.easternplainscommunitypantry.org
X-WR-CALDESC:Events for Eastern Plains Community Pantry
REFRESH-INTERVAL;VALUE=DURATION:PT1H
X-Robots-Tag:noindex
X-PUBLISHED-TTL:PT1H
BEGIN:VTIMEZONE
TZID:America/Denver
BEGIN:DAYLIGHT
TZOFFSETFROM:-0700
TZOFFSETTO:-0600
TZNAME:MDT
DTSTART:20210314T090000
END:DAYLIGHT
BEGIN:STANDARD
TZOFFSETFROM:-0600
TZOFFSETTO:-0700
TZNAME:MST
DTSTART:20211107T080000
END:STANDARD
END:VTIMEZONE
BEGIN:VEVENT
DTSTART;TZID=America/Denver:20210907T090000
DTEND;TZID=America/Denver:20210907T130000
DTSTAMP:20260420T201305
CREATED:20210805T172633Z
LAST-MODIFIED:20210805T172824Z
UID:2701-1631005200-1631019600@www.easternplainscommunitypantry.org
SUMMARY:Senior Commodities Pickup will be Tuesday\, Sept 7th. (9:00 am to 1:00 pm)
DESCRIPTION:The Senior Commodities Pickup will be on Tuesday\, Sept. 7th.  We will be closed on Labor Day with is the 6th.
URL:https://www.easternplainscommunitypantry.org/event/senior-commodities-pickup-will-be-tuesday-sept-7th/
LOCATION:CO
CATEGORIES:Mobile Pantry
END:VEVENT
BEGIN:VEVENT
DTSTART;TZID=America/Denver:20210917T090000
DTEND;TZID=America/Denver:20210917T130000
DTSTAMP:20260420T201305
CREATED:20210727T133412Z
LAST-MODIFIED:20210727T133412Z
UID:2692-1631869200-1631883600@www.easternplainscommunitypantry.org
SUMMARY:September Mobile Pantry
DESCRIPTION:The Mobile Pantry will be from 9:00 am to 1:00 pm. Drive-by Pickup by the east door of the pantry.
URL:https://www.easternplainscommunitypantry.org/event/september-mobile-pantry-4/
LOCATION:CO
CATEGORIES:Mobile Pantry
END:VEVENT
END:VCALENDAR