BEGIN:VCALENDAR
VERSION:2.0
PRODID:-//Eastern Plains Community Pantry - ECPv6.3.5//NONSGML v1.0//EN
CALSCALE:GREGORIAN
METHOD:PUBLISH
X-WR-CALNAME:Eastern Plains Community Pantry
X-ORIGINAL-URL:https://www.easternplainscommunitypantry.org
X-WR-CALDESC:Events for Eastern Plains Community Pantry
REFRESH-INTERVAL;VALUE=DURATION:PT1H
X-Robots-Tag:noindex
X-PUBLISHED-TTL:PT1H
BEGIN:VTIMEZONE
TZID:America/Denver
BEGIN:DAYLIGHT
TZOFFSETFROM:-0700
TZOFFSETTO:-0600
TZNAME:MDT
DTSTART:20210314T090000
END:DAYLIGHT
BEGIN:STANDARD
TZOFFSETFROM:-0600
TZOFFSETTO:-0700
TZNAME:MST
DTSTART:20211107T080000
END:STANDARD
END:VTIMEZONE
BEGIN:VEVENT
DTSTART;VALUE=DATE:20211223
DTEND;VALUE=DATE:20211226
DTSTAMP:20260420T154325
CREATED:20211201T194313Z
LAST-MODIFIED:20211207T024301Z
UID:2771-1640217600-1640476799@www.easternplainscommunitypantry.org
SUMMARY:Pantry Closed - December 23rd through 25th
DESCRIPTION:The Pantry will be closed on the following Dates so that volunteers can be with their families. \n 
URL:https://www.easternplainscommunitypantry.org/event/pantry-closed-december-23rd-through-25th/
CATEGORIES:Holiday Closings
END:VEVENT
END:VCALENDAR