BEGIN:VCALENDAR
VERSION:2.0
PRODID:-//Eastern Plains Community Pantry - ECPv6.3.5//NONSGML v1.0//EN
CALSCALE:GREGORIAN
METHOD:PUBLISH
X-ORIGINAL-URL:https://www.easternplainscommunitypantry.org
X-WR-CALDESC:Events for Eastern Plains Community Pantry
REFRESH-INTERVAL;VALUE=DURATION:PT1H
X-Robots-Tag:noindex
X-PUBLISHED-TTL:PT1H
BEGIN:VTIMEZONE
TZID:America/Denver
BEGIN:DAYLIGHT
TZOFFSETFROM:-0700
TZOFFSETTO:-0600
TZNAME:MDT
DTSTART:20200308T090000
END:DAYLIGHT
BEGIN:STANDARD
TZOFFSETFROM:-0600
TZOFFSETTO:-0700
TZNAME:MST
DTSTART:20201101T080000
END:STANDARD
BEGIN:DAYLIGHT
TZOFFSETFROM:-0700
TZOFFSETTO:-0600
TZNAME:MDT
DTSTART:20210314T090000
END:DAYLIGHT
BEGIN:STANDARD
TZOFFSETFROM:-0600
TZOFFSETTO:-0700
TZNAME:MST
DTSTART:20211107T080000
END:STANDARD
END:VTIMEZONE
BEGIN:VEVENT
DTSTART;VALUE=DATE:20201231
DTEND;VALUE=DATE:20210103
DTSTAMP:20260421T160028
CREATED:20201017T191724Z
LAST-MODIFIED:20201017T191724Z
UID:2447-1609372800-1609631999@www.easternplainscommunitypantry.org
SUMMARY:Pantry Closed - December 31st and January 1st and 2nd
DESCRIPTION:Please note that the pantry will be closed during the following dates so that our volunteers can enjoy family time during the New Year holidays. \n\nThursday\, Dec. 31st\nFriday\, Jan. 1st\nSaturday\, Jan. 2nd
URL:https://www.easternplainscommunitypantry.org/event/pantry-closed-december-31st-and-january-1st-and-2nd/
CATEGORIES:Holiday Closings
END:VEVENT
END:VCALENDAR