BEGIN:VCALENDAR
VERSION:2.0
PRODID:-//Eastern Plains Community Pantry - ECPv6.3.5//NONSGML v1.0//EN
CALSCALE:GREGORIAN
METHOD:PUBLISH
X-ORIGINAL-URL:https://www.easternplainscommunitypantry.org
X-WR-CALDESC:Events for Eastern Plains Community Pantry
REFRESH-INTERVAL;VALUE=DURATION:PT1H
X-Robots-Tag:noindex
X-PUBLISHED-TTL:PT1H
BEGIN:VTIMEZONE
TZID:America/Denver
BEGIN:DAYLIGHT
TZOFFSETFROM:-0700
TZOFFSETTO:-0600
TZNAME:MDT
DTSTART:20200308T090000
END:DAYLIGHT
BEGIN:STANDARD
TZOFFSETFROM:-0600
TZOFFSETTO:-0700
TZNAME:MST
DTSTART:20201101T080000
END:STANDARD
END:VTIMEZONE
BEGIN:VEVENT
DTSTART;VALUE=DATE:20201224
DTEND;VALUE=DATE:20201227
DTSTAMP:20260421T155354
CREATED:20201017T191348Z
LAST-MODIFIED:20201017T191739Z
UID:2443-1608768000-1609027199@www.easternplainscommunitypantry.org
SUMMARY:Pantry Closed - Dec. 24th\, 25th and 26th
DESCRIPTION:Please note that the pantry will be closed on the following dates so that our valued volunteers can be with their families during the Christmas holidays. \n\nThursday\, Dec. 24th\nFriday\, Dec. 25th\nSaturday\, Dec. 26th\n\n 
URL:https://www.easternplainscommunitypantry.org/event/pantry-closed-dec-24th-25th-and-26th/
CATEGORIES:Holiday Closings
END:VEVENT
END:VCALENDAR