BEGIN:VCALENDAR
VERSION:2.0
PRODID:-//Eastern Plains Community Pantry - ECPv6.3.5//NONSGML v1.0//EN
CALSCALE:GREGORIAN
METHOD:PUBLISH
X-WR-CALNAME:Eastern Plains Community Pantry
X-ORIGINAL-URL:https://www.easternplainscommunitypantry.org
X-WR-CALDESC:Events for Eastern Plains Community Pantry
REFRESH-INTERVAL;VALUE=DURATION:PT1H
X-Robots-Tag:noindex
X-PUBLISHED-TTL:PT1H
BEGIN:VTIMEZONE
TZID:America/Denver
BEGIN:DAYLIGHT
TZOFFSETFROM:-0700
TZOFFSETTO:-0600
TZNAME:MDT
DTSTART:20170312T090000
END:DAYLIGHT
BEGIN:STANDARD
TZOFFSETFROM:-0600
TZOFFSETTO:-0700
TZNAME:MST
DTSTART:20171105T080000
END:STANDARD
END:VTIMEZONE
BEGIN:VEVENT
DTSTART;VALUE=DATE:20170102
DTEND;VALUE=DATE:20170103
DTSTAMP:20260425T044834
CREATED:20161004T025619Z
LAST-MODIFIED:20161206T233951Z
UID:630-1483315200-1483401599@www.easternplainscommunitypantry.org
SUMMARY:New Year's  - Pantry Closed
DESCRIPTION:
URL:https://www.easternplainscommunitypantry.org/event/new-years-day-pantry-closed/
CATEGORIES:Holiday Closings
END:VEVENT
END:VCALENDAR