BEGIN:VCALENDAR
VERSION:2.0
PRODID:-//Eastern Plains Community Pantry - ECPv6.3.5//NONSGML v1.0//EN
CALSCALE:GREGORIAN
METHOD:PUBLISH
X-WR-CALNAME:Eastern Plains Community Pantry
X-ORIGINAL-URL:https://www.easternplainscommunitypantry.org
X-WR-CALDESC:Events for Eastern Plains Community Pantry
REFRESH-INTERVAL;VALUE=DURATION:PT1H
X-Robots-Tag:noindex
X-PUBLISHED-TTL:PT1H
BEGIN:VTIMEZONE
TZID:America/Denver
BEGIN:DAYLIGHT
TZOFFSETFROM:-0700
TZOFFSETTO:-0600
TZNAME:MDT
DTSTART:20170312T090000
END:DAYLIGHT
BEGIN:STANDARD
TZOFFSETFROM:-0600
TZOFFSETTO:-0700
TZNAME:MST
DTSTART:20171105T080000
END:STANDARD
END:VTIMEZONE
BEGIN:VEVENT
DTSTART;VALUE=DATE:20171123
DTEND;VALUE=DATE:20171124
DTSTAMP:20260424T063242
CREATED:20171106T225503Z
LAST-MODIFIED:20171106T225755Z
UID:1158-1511395200-1511481599@www.easternplainscommunitypantry.org
SUMMARY:Closed on Thanksgiving Day
DESCRIPTION:The Eastern Plains Community will be closed on Thanksgiving Day. \nWishing everyone a wonderful Thanksgiving.
URL:https://www.easternplainscommunitypantry.org/event/happy-thanksgiving/
CATEGORIES:Holiday Closings
END:VEVENT
BEGIN:VEVENT
DTSTART;VALUE=DATE:20171124
DTEND;VALUE=DATE:20171125
DTSTAMP:20260424T063242
CREATED:20171123T010040Z
LAST-MODIFIED:20171123T010143Z
UID:1193-1511481600-1511567999@www.easternplainscommunitypantry.org
SUMMARY:Pantry Closed
DESCRIPTION:
URL:https://www.easternplainscommunitypantry.org/event/closed-holidady/
CATEGORIES:Holiday Closings
END:VEVENT
END:VCALENDAR