BEGIN:VCALENDAR
VERSION:2.0
PRODID:-//Eastern Plains Community Pantry - ECPv6.3.5//NONSGML v1.0//EN
CALSCALE:GREGORIAN
METHOD:PUBLISH
X-WR-CALNAME:Eastern Plains Community Pantry
X-ORIGINAL-URL:https://www.easternplainscommunitypantry.org
X-WR-CALDESC:Events for Eastern Plains Community Pantry
REFRESH-INTERVAL;VALUE=DURATION:PT1H
X-Robots-Tag:noindex
X-PUBLISHED-TTL:PT1H
BEGIN:VTIMEZONE
TZID:America/Denver
BEGIN:DAYLIGHT
TZOFFSETFROM:-0700
TZOFFSETTO:-0600
TZNAME:MDT
DTSTART:20170312T090000
END:DAYLIGHT
BEGIN:STANDARD
TZOFFSETFROM:-0600
TZOFFSETTO:-0700
TZNAME:MST
DTSTART:20171105T080000
END:STANDARD
BEGIN:DAYLIGHT
TZOFFSETFROM:-0700
TZOFFSETTO:-0600
TZNAME:MDT
DTSTART:20180311T090000
END:DAYLIGHT
BEGIN:STANDARD
TZOFFSETFROM:-0600
TZOFFSETTO:-0700
TZNAME:MST
DTSTART:20181104T080000
END:STANDARD
BEGIN:DAYLIGHT
TZOFFSETFROM:-0700
TZOFFSETTO:-0600
TZNAME:MDT
DTSTART:20190310T090000
END:DAYLIGHT
BEGIN:STANDARD
TZOFFSETFROM:-0600
TZOFFSETTO:-0700
TZNAME:MST
DTSTART:20191103T080000
END:STANDARD
END:VTIMEZONE
BEGIN:VEVENT
DTSTART;TZID=America/Denver:20191214T170000
DTEND;TZID=America/Denver:20191214T200000
DTSTAMP:20260419T071828
CREATED:20191212T010156Z
LAST-MODIFIED:20191212T010925Z
UID:2182-1576342800-1576353600@www.easternplainscommunitypantry.org
SUMMARY:Calhan Parade of Lights
DESCRIPTION:Join and enjoy the Parade of Lights and see all of the beautifully decorated vehicles.  There will be a variety of food and hot beverages along the parade route. \nReindeer and Santa will be at the Whittemore Building at the Fair Grounds as well.
URL:https://www.easternplainscommunitypantry.org/event/calhan-parade-of-lights/
CATEGORIES:Community Events
END:VEVENT
BEGIN:VEVENT
DTSTART;TZID=America/Denver:20191214T120000
DTEND;TZID=America/Denver:20191214T140000
DTSTAMP:20260419T071828
CREATED:20191212T010836Z
LAST-MODIFIED:20191212T010836Z
UID:2184-1576324800-1576332000@www.easternplainscommunitypantry.org
SUMMARY:Community Christmas Party
DESCRIPTION:Come and see Santa and enjoy some cookies and drink at Swink Hall from Noon to 2:00 pm.
URL:https://www.easternplainscommunitypantry.org/event/community-christmas-party/
CATEGORIES:Community Events
END:VEVENT
BEGIN:VEVENT
DTSTART;TZID=America/Denver:20190316T090000
DTEND;TZID=America/Denver:20190316T120000
DTSTAMP:20260419T071828
CREATED:20190108T042531Z
LAST-MODIFIED:20190108T042703Z
UID:1856-1552726800-1552737600@www.easternplainscommunitypantry.org
SUMMARY:Pantry Open - Saturday\, March 16th
DESCRIPTION:The pantry voted on January 7th to expand our pantry hours to include one Saturday during the month.  We will now be open the 3rd Saturday from 9:00 to noon to better server our community.
URL:https://www.easternplainscommunitypantry.org/event/pantry-open-saturday-march-16th-900-to-noon/
CATEGORIES:Community Events
END:VEVENT
BEGIN:VEVENT
DTSTART;TZID=America/Denver:20190119T090000
DTEND;TZID=America/Denver:20190119T120000
DTSTAMP:20260419T071828
CREATED:20190108T042229Z
LAST-MODIFIED:20190108T042229Z
UID:1852-1547888400-1547899200@www.easternplainscommunitypantry.org
SUMMARY:Pantry Open - Saturday\, Jan 19th
DESCRIPTION:The pantry voted on January 7th to expand our pantry hours to include one Saturday during the month.  We will now be open the 3rd Saturday from 9:00 to noon to better server our community.
URL:https://www.easternplainscommunitypantry.org/event/pantry-open-saturday-jan-19th/
CATEGORIES:Community Events
END:VEVENT
BEGIN:VEVENT
DTSTART;TZID=America/Denver:20181215T180000
DTEND;TZID=America/Denver:20181215T200000
DTSTAMP:20260419T071828
CREATED:20181208T174232Z
LAST-MODIFIED:20181208T174232Z
UID:1823-1544896800-1544904000@www.easternplainscommunitypantry.org
SUMMARY:Calhan Country Christmas
DESCRIPTION: A magical evening of the sights and sounds of Christmas in the country! Enjoy the Calhan Christmas Parade of Lights\, live reindeer\, enjoy the sounds of strolling carolers\, gaze at the stars with the Colorado Springs Astronomical Society\, shop with local artisans and swing to the amazing music of Fire Line. Afterwards\, don’t miss the exciting action in the indoor Owens Livestock Arena for our Branding Iron Bull Riding!
URL:https://www.easternplainscommunitypantry.org/event/calhan-country-christmas/
CATEGORIES:Community Events
END:VEVENT
BEGIN:VEVENT
DTSTART;TZID=America/Denver:20181215T130000
DTEND;TZID=America/Denver:20181215T143000
DTSTAMP:20260419T071828
CREATED:20181208T173851Z
LAST-MODIFIED:20181208T173851Z
UID:1821-1544878800-1544884200@www.easternplainscommunitypantry.org
SUMMARY:Holiday Giving Program at Swink Hall
DESCRIPTION:In collaboration with the Calhan Lions Club\, the Holiday Giving Program will be Saturday\, December 15th from 1:00 to 2:30 pm. \nSanta and Mrs. Claus will be there for the children.  Cookies and Hot Chocolate will also be served.  There will also be face painting for the children.
URL:https://www.easternplainscommunitypantry.org/event/holiday-giving-program-at-swink-hall/
CATEGORIES:Community Events
END:VEVENT
BEGIN:VEVENT
DTSTART;TZID=America/Denver:20181006T100000
DTEND;TZID=America/Denver:20181006T130000
DTSTAMP:20260419T071828
CREATED:20180508T035953Z
LAST-MODIFIED:20180508T035953Z
UID:1490-1538820000-1538830800@www.easternplainscommunitypantry.org
SUMMARY:Community Outreach Center Health and Education Fair
DESCRIPTION:
URL:https://www.easternplainscommunitypantry.org/event/community-outreach-center-health-and-education-fair/
CATEGORIES:Community Events
END:VEVENT
BEGIN:VEVENT
DTSTART;TZID=America/Denver:20180713T160000
DTEND;TZID=America/Denver:20180713T213000
DTSTAMP:20260419T071828
CREATED:20180508T040203Z
LAST-MODIFIED:20180508T040203Z
UID:1492-1531497600-1531517400@www.easternplainscommunitypantry.org
SUMMARY:Calhan Summer Fest
DESCRIPTION:
URL:https://www.easternplainscommunitypantry.org/event/calhan-summer-fest-2/
CATEGORIES:Community Events
END:VEVENT
BEGIN:VEVENT
DTSTART;VALUE=DATE:20180526
DTEND;VALUE=DATE:20180527
DTSTAMP:20260419T071828
CREATED:20180526T172056Z
LAST-MODIFIED:20180526T172056Z
UID:1521-1527292800-1527379199@www.easternplainscommunitypantry.org
SUMMARY:Memorial Day - Closed
DESCRIPTION:
URL:https://www.easternplainscommunitypantry.org/event/memorial-day-closed/
CATEGORIES:Community Events
END:VEVENT
BEGIN:VEVENT
DTSTART;TZID=America/Denver:20180505T100000
DTEND;TZID=America/Denver:20180505T233000
DTSTAMP:20260419T071828
CREATED:20180508T035805Z
LAST-MODIFIED:20180508T035805Z
UID:1488-1525514400-1525563000@www.easternplainscommunitypantry.org
SUMMARY:Loyalty Day Parade
DESCRIPTION:
URL:https://www.easternplainscommunitypantry.org/event/loyalty-day-parade-2/
CATEGORIES:Community Events
END:VEVENT
BEGIN:VEVENT
DTSTART;TZID=America/Denver:20171209T130000
DTEND;TZID=America/Denver:20171209T143000
DTSTAMP:20260419T071829
CREATED:20171205T210104Z
LAST-MODIFIED:20171205T210104Z
UID:1296-1512824400-1512829800@www.easternplainscommunitypantry.org
SUMMARY:Calhan Lions Club Community Christmas Party
DESCRIPTION:The “Toy Give Away” along with the “Teen Angel” gifts will be held on December 9th in conjunction with the Calhan Lions Club\nCommunity Christmas Party at 1:00 p.m. and end at 2:30 p.m. at Swink Hall on the El Paso County Fairgrounds .
URL:https://www.easternplainscommunitypantry.org/event/calhan-lions-club-community-christmas-party/
CATEGORIES:Community Events
END:VEVENT
BEGIN:VEVENT
DTSTART;TZID=America/Denver:20171202T190000
DTEND;TZID=America/Denver:20171202T193000
DTSTAMP:20260419T071829
CREATED:20171106T231605Z
LAST-MODIFIED:20171106T231605Z
UID:1168-1512241200-1512243000@www.easternplainscommunitypantry.org
SUMMARY:1st Annual Calhan Community Christmas Parade of Lights
DESCRIPTION:1st Annual Calhan Community Christmas Parade of Lights \nCome and enjoy the evening and see the lighted floats and bands. \nTheme: A Country Christmas \nSponsored by: Calhan Youth and Recreation Foundation (CYERF) \nDate: Saturday\, December 2nd \nTime: 7:00 pm \nIf you would like to enter a float\, please contact CYERF.
URL:https://www.easternplainscommunitypantry.org/event/1st-annual-calhan-community-christmas-parade-of-lights/
CATEGORIES:Community Events
END:VEVENT
END:VCALENDAR