BEGIN:VCALENDAR
VERSION:2.0
PRODID:-//Eastern Plains Community Pantry - ECPv6.3.5//NONSGML v1.0//EN
CALSCALE:GREGORIAN
METHOD:PUBLISH
X-WR-CALNAME:Eastern Plains Community Pantry
X-ORIGINAL-URL:https://www.easternplainscommunitypantry.org
X-WR-CALDESC:Events for Eastern Plains Community Pantry
REFRESH-INTERVAL;VALUE=DURATION:PT1H
X-Robots-Tag:noindex
X-PUBLISHED-TTL:PT1H
BEGIN:VTIMEZONE
TZID:America/Denver
BEGIN:DAYLIGHT
TZOFFSETFROM:-0700
TZOFFSETTO:-0600
TZNAME:MDT
DTSTART:20200308T090000
END:DAYLIGHT
BEGIN:STANDARD
TZOFFSETFROM:-0600
TZOFFSETTO:-0700
TZNAME:MST
DTSTART:20201101T080000
END:STANDARD
END:VTIMEZONE
BEGIN:VEVENT
DTSTART;VALUE=DATE:20201120
DTEND;VALUE=DATE:20201121
DTSTAMP:20260424T112405
CREATED:20201017T192232Z
LAST-MODIFIED:20201017T194508Z
UID:2451-1605830400-1605916799@www.easternplainscommunitypantry.org
SUMMARY:Deadline for Angel Signup
DESCRIPTION:November 20th is the deadline to signup for our Angel program for your middle school or high school child.  Please come in to complete the necessary paperwork.
URL:https://www.easternplainscommunitypantry.org/event/deadline-for-angel-signup/
CATEGORIES:Community Events
END:VEVENT
END:VCALENDAR