BEGIN:VCALENDAR
VERSION:2.0
PRODID:-//Eastern Plains Community Pantry - ECPv6.3.5//NONSGML v1.0//EN
CALSCALE:GREGORIAN
METHOD:PUBLISH
X-WR-CALNAME:Eastern Plains Community Pantry
X-ORIGINAL-URL:https://www.easternplainscommunitypantry.org
X-WR-CALDESC:Events for Eastern Plains Community Pantry
REFRESH-INTERVAL;VALUE=DURATION:PT1H
X-Robots-Tag:noindex
X-PUBLISHED-TTL:PT1H
BEGIN:VTIMEZONE
TZID:America/Denver
BEGIN:DAYLIGHT
TZOFFSETFROM:-0700
TZOFFSETTO:-0600
TZNAME:MDT
DTSTART:20230312T090000
END:DAYLIGHT
BEGIN:STANDARD
TZOFFSETFROM:-0600
TZOFFSETTO:-0700
TZNAME:MST
DTSTART:20231105T080000
END:STANDARD
END:VTIMEZONE
BEGIN:VEVENT
DTSTART;TZID=America/Denver:20230103T100000
DTEND;TZID=America/Denver:20230103T130000
DTSTAMP:20260421T053600
CREATED:20221109T202320Z
LAST-MODIFIED:20230103T053558Z
UID:3104-1672740000-1672750800@www.easternplainscommunitypantry.org
SUMMARY:Commodities - distribution for January
DESCRIPTION:Because of the New Year\, commodities will begin on Tuesday\, January 3rd\, during pantry hours. (10:00 am  to 1:00 pm
URL:https://www.easternplainscommunitypantry.org/event/commodities-distribution-for-january/
LOCATION:CO
CATEGORIES:Commodities
END:VEVENT
END:VCALENDAR