BEGIN:VCALENDAR
VERSION:2.0
PRODID:-//Eastern Plains Community Pantry - ECPv6.3.5//NONSGML v1.0//EN
CALSCALE:GREGORIAN
METHOD:PUBLISH
X-WR-CALNAME:Eastern Plains Community Pantry
X-ORIGINAL-URL:https://www.easternplainscommunitypantry.org
X-WR-CALDESC:Events for Eastern Plains Community Pantry
REFRESH-INTERVAL;VALUE=DURATION:PT1H
X-Robots-Tag:noindex
X-PUBLISHED-TTL:PT1H
BEGIN:VTIMEZONE
TZID:America/Denver
BEGIN:DAYLIGHT
TZOFFSETFROM:-0700
TZOFFSETTO:-0600
TZNAME:MDT
DTSTART:20240310T090000
END:DAYLIGHT
BEGIN:STANDARD
TZOFFSETFROM:-0600
TZOFFSETTO:-0700
TZNAME:MST
DTSTART:20241103T080000
END:STANDARD
END:VTIMEZONE
BEGIN:VEVENT
DTSTART;TZID=America/Denver:20240319T090000
DTEND;TZID=America/Denver:20240319T133000
DTSTAMP:20260420T092603
CREATED:20240318T180138Z
LAST-MODIFIED:20240318T180138Z
UID:3832-1710838800-1710855000@www.easternplainscommunitypantry.org
SUMMARY:MOBILE PANTRY - THIS TUES. MARCH 19th. 9:00am to 1:00pm
DESCRIPTION:Due to the inclement weather and no delivery  on March 15th\, please note that \nMobile Pantry will be on this TUESDAY\, MARCH 19th from 9:00 am to 1:00 pm.
URL:https://www.easternplainscommunitypantry.org/event/mobile-pantry-this-tues-march-19th-900am-to-100pm/
LOCATION:CO
END:VEVENT
END:VCALENDAR