BEGIN:VCALENDAR
VERSION:2.0
PRODID:-//Eastern Plains Community Pantry - ECPv6.3.5//NONSGML v1.0//EN
CALSCALE:GREGORIAN
METHOD:PUBLISH
X-ORIGINAL-URL:https://www.easternplainscommunitypantry.org
X-WR-CALDESC:Events for Eastern Plains Community Pantry
REFRESH-INTERVAL;VALUE=DURATION:PT1H
X-Robots-Tag:noindex
X-PUBLISHED-TTL:PT1H
BEGIN:VTIMEZONE
TZID:America/Denver
BEGIN:DAYLIGHT
TZOFFSETFROM:-0700
TZOFFSETTO:-0600
TZNAME:MDT
DTSTART:20230312T090000
END:DAYLIGHT
BEGIN:STANDARD
TZOFFSETFROM:-0600
TZOFFSETTO:-0700
TZNAME:MST
DTSTART:20231105T080000
END:STANDARD
END:VTIMEZONE
BEGIN:VEVENT
DTSTART;VALUE=DATE:20230311
DTEND;VALUE=DATE:20230312
DTSTAMP:20260421T090658
CREATED:20230215T172002Z
LAST-MODIFIED:20230307T034547Z
UID:3362-1678492800-1678579199@www.easternplainscommunitypantry.org
SUMMARY:Come and join us at our 10TH YEAR ANNIVERSARY CELEBRATION - Saturday\, March 11th beginning at 11:00 am
DESCRIPTION:Come and join us as we celebrate our 10th year Anniversary of serving and providing help to our community. \nSaturday\, March 11th\, beginning at 11:00 am. \nWe will be serving chili\, cinnamon rolls\, and a drink starting at 11:00 am. \nCome and join us in this celebration and party with us.  
URL:https://www.easternplainscommunitypantry.org/event/celebrating-our-10th-year-anniversary-march-11th-beginning-at-1100-am-2/
LOCATION:Eastern Plains Community Pantry\, 701 4th St.\, Calhan\, CO\, 80808\, United States
CATEGORIES:Community Events
END:VEVENT
END:VCALENDAR