BEGIN:VCALENDAR
VERSION:2.0
PRODID:-//Eastern Plains Community Pantry - ECPv6.3.5//NONSGML v1.0//EN
CALSCALE:GREGORIAN
METHOD:PUBLISH
X-ORIGINAL-URL:https://www.easternplainscommunitypantry.org
X-WR-CALDESC:Events for Eastern Plains Community Pantry
REFRESH-INTERVAL;VALUE=DURATION:PT1H
X-Robots-Tag:noindex
X-PUBLISHED-TTL:PT1H
BEGIN:VTIMEZONE
TZID:America/Denver
BEGIN:DAYLIGHT
TZOFFSETFROM:-0700
TZOFFSETTO:-0600
TZNAME:MDT
DTSTART:20210314T090000
END:DAYLIGHT
BEGIN:STANDARD
TZOFFSETFROM:-0600
TZOFFSETTO:-0700
TZNAME:MST
DTSTART:20211107T080000
END:STANDARD
END:VTIMEZONE
BEGIN:VEVENT
DTSTART;VALUE=DATE:20210904
DTEND;VALUE=DATE:20210907
DTSTAMP:20260422T231548
CREATED:20210805T172219Z
LAST-MODIFIED:20210805T172219Z
UID:2699-1630713600-1630972799@www.easternplainscommunitypantry.org
SUMMARY:PANTRY CLOSED - Sept 4th through Sept 6th
DESCRIPTION:So that our volunteers can be with their families\, the pantry will be closed on September 4th.
URL:https://www.easternplainscommunitypantry.org/event/pantry-closed-sept-4th-through-sept-6th/
END:VEVENT
END:VCALENDAR