BEGIN:VCALENDAR
VERSION:2.0
PRODID:-//Eastern Plains Community Pantry - ECPv6.3.5//NONSGML v1.0//EN
CALSCALE:GREGORIAN
METHOD:PUBLISH
X-ORIGINAL-URL:https://www.easternplainscommunitypantry.org
X-WR-CALDESC:Events for Eastern Plains Community Pantry
REFRESH-INTERVAL;VALUE=DURATION:PT1H
X-Robots-Tag:noindex
X-PUBLISHED-TTL:PT1H
BEGIN:VTIMEZONE
TZID:America/Denver
BEGIN:DAYLIGHT
TZOFFSETFROM:-0700
TZOFFSETTO:-0600
TZNAME:MDT
DTSTART:20210314T090000
END:DAYLIGHT
BEGIN:STANDARD
TZOFFSETFROM:-0600
TZOFFSETTO:-0700
TZNAME:MST
DTSTART:20211107T080000
END:STANDARD
END:VTIMEZONE
BEGIN:VEVENT
DTSTART;TZID=America/Denver:20210807T093000
DTEND;TZID=America/Denver:20210807T120000
DTSTAMP:20260423T014307
CREATED:20210727T133247Z
LAST-MODIFIED:20210727T133247Z
UID:2690-1628328600-1628337600@www.easternplainscommunitypantry.org
SUMMARY:Kids Spree -- August 7th
DESCRIPTION:In conjunction with the Calhan Lions Club\, Kids Spree is scheduled for Saturday\, August 7th at St. Paul Lutheran Church. \nTo find out more\, please ask at the pantry. \n 
URL:https://www.easternplainscommunitypantry.org/event/kids-spree-august-7th/
END:VEVENT
END:VCALENDAR